BEGIN:VCALENDAR
VERSION:2.0
PRODID:-//Antioch Baptist Church - ECPv6.15.20//NONSGML v1.0//EN
CALSCALE:GREGORIAN
METHOD:PUBLISH
X-WR-CALNAME:Antioch Baptist Church
X-ORIGINAL-URL:https://www.abccommunity.com
X-WR-CALDESC:Events for Antioch Baptist Church
REFRESH-INTERVAL;VALUE=DURATION:PT1H
X-Robots-Tag:noindex
X-PUBLISHED-TTL:PT1H
BEGIN:VTIMEZONE
TZID:America/New_York
BEGIN:DAYLIGHT
TZOFFSETFROM:-0500
TZOFFSETTO:-0400
TZNAME:EDT
DTSTART:20250309T070000
END:DAYLIGHT
BEGIN:STANDARD
TZOFFSETFROM:-0400
TZOFFSETTO:-0500
TZNAME:EST
DTSTART:20251102T060000
END:STANDARD
BEGIN:DAYLIGHT
TZOFFSETFROM:-0500
TZOFFSETTO:-0400
TZNAME:EDT
DTSTART:20260308T070000
END:DAYLIGHT
BEGIN:STANDARD
TZOFFSETFROM:-0400
TZOFFSETTO:-0500
TZNAME:EST
DTSTART:20261101T060000
END:STANDARD
BEGIN:DAYLIGHT
TZOFFSETFROM:-0500
TZOFFSETTO:-0400
TZNAME:EDT
DTSTART:20270314T070000
END:DAYLIGHT
BEGIN:STANDARD
TZOFFSETFROM:-0400
TZOFFSETTO:-0500
TZNAME:EST
DTSTART:20271107T060000
END:STANDARD
END:VTIMEZONE
BEGIN:VEVENT
DTSTART;TZID=America/New_York:20260908T100000
DTEND;TZID=America/New_York:20260908T100000
DTSTAMP:20260423T231931
CREATED:20260417T171741Z
LAST-MODIFIED:20260417T171741Z
UID:10002929-1788861600-1788861600@www.abccommunity.com
SUMMARY:Women's Bible Study
DESCRIPTION:
URL:https://www.abccommunity.com/event/womens-bible-study-6/2026-09-08/
END:VEVENT
BEGIN:VEVENT
DTSTART;TZID=America/New_York:20260915T100000
DTEND;TZID=America/New_York:20260915T100000
DTSTAMP:20260423T231931
CREATED:20260417T171741Z
LAST-MODIFIED:20260417T171741Z
UID:10002930-1789466400-1789466400@www.abccommunity.com
SUMMARY:Women's Bible Study
DESCRIPTION:
URL:https://www.abccommunity.com/event/womens-bible-study-6/2026-09-15/
END:VEVENT
BEGIN:VEVENT
DTSTART;TZID=America/New_York:20260922T100000
DTEND;TZID=America/New_York:20260922T100000
DTSTAMP:20260423T231931
CREATED:20260417T171741Z
LAST-MODIFIED:20260417T171741Z
UID:10002931-1790071200-1790071200@www.abccommunity.com
SUMMARY:Women's Bible Study
DESCRIPTION:
URL:https://www.abccommunity.com/event/womens-bible-study-6/2026-09-22/
END:VEVENT
BEGIN:VEVENT
DTSTART;TZID=America/New_York:20260929T100000
DTEND;TZID=America/New_York:20260929T100000
DTSTAMP:20260423T231931
CREATED:20260417T171741Z
LAST-MODIFIED:20260417T171741Z
UID:10002932-1790676000-1790676000@www.abccommunity.com
SUMMARY:Women's Bible Study
DESCRIPTION:
URL:https://www.abccommunity.com/event/womens-bible-study-6/2026-09-29/
END:VEVENT
BEGIN:VEVENT
DTSTART;TZID=America/New_York:20261006T100000
DTEND;TZID=America/New_York:20261006T100000
DTSTAMP:20260423T231931
CREATED:20260417T171741Z
LAST-MODIFIED:20260417T171741Z
UID:10002933-1791280800-1791280800@www.abccommunity.com
SUMMARY:Women's Bible Study
DESCRIPTION:
URL:https://www.abccommunity.com/event/womens-bible-study-6/2026-10-06/
END:VEVENT
BEGIN:VEVENT
DTSTART;TZID=America/New_York:20261013T100000
DTEND;TZID=America/New_York:20261013T100000
DTSTAMP:20260423T231931
CREATED:20260417T171741Z
LAST-MODIFIED:20260417T171741Z
UID:10002934-1791885600-1791885600@www.abccommunity.com
SUMMARY:Women's Bible Study
DESCRIPTION:
URL:https://www.abccommunity.com/event/womens-bible-study-6/2026-10-13/
END:VEVENT
BEGIN:VEVENT
DTSTART;TZID=America/New_York:20261020T100000
DTEND;TZID=America/New_York:20261020T100000
DTSTAMP:20260423T231931
CREATED:20260417T171741Z
LAST-MODIFIED:20260417T171741Z
UID:10002935-1792490400-1792490400@www.abccommunity.com
SUMMARY:Women's Bible Study
DESCRIPTION:
URL:https://www.abccommunity.com/event/womens-bible-study-6/2026-10-20/
END:VEVENT
BEGIN:VEVENT
DTSTART;TZID=America/New_York:20261027T100000
DTEND;TZID=America/New_York:20261027T100000
DTSTAMP:20260423T231931
CREATED:20260417T171741Z
LAST-MODIFIED:20260417T171741Z
UID:10002936-1793095200-1793095200@www.abccommunity.com
SUMMARY:Women's Bible Study
DESCRIPTION:
URL:https://www.abccommunity.com/event/womens-bible-study-6/2026-10-27/
END:VEVENT
BEGIN:VEVENT
DTSTART;TZID=America/New_York:20261103T100000
DTEND;TZID=America/New_York:20261103T100000
DTSTAMP:20260423T231931
CREATED:20260417T171741Z
LAST-MODIFIED:20260417T171741Z
UID:10002937-1793700000-1793700000@www.abccommunity.com
SUMMARY:Women's Bible Study
DESCRIPTION:
URL:https://www.abccommunity.com/event/womens-bible-study-6/2026-11-03/
END:VEVENT
BEGIN:VEVENT
DTSTART;TZID=America/New_York:20261110T100000
DTEND;TZID=America/New_York:20261110T100000
DTSTAMP:20260423T231931
CREATED:20260417T171741Z
LAST-MODIFIED:20260417T171741Z
UID:10002938-1794304800-1794304800@www.abccommunity.com
SUMMARY:Women's Bible Study
DESCRIPTION:
URL:https://www.abccommunity.com/event/womens-bible-study-6/2026-11-10/
END:VEVENT
BEGIN:VEVENT
DTSTART;TZID=America/New_York:20261117T100000
DTEND;TZID=America/New_York:20261117T100000
DTSTAMP:20260423T231931
CREATED:20260417T171741Z
LAST-MODIFIED:20260417T171741Z
UID:10002939-1794909600-1794909600@www.abccommunity.com
SUMMARY:Women's Bible Study
DESCRIPTION:
URL:https://www.abccommunity.com/event/womens-bible-study-6/2026-11-17/
END:VEVENT
END:VCALENDAR