BEGIN:VCALENDAR
VERSION:2.0
PRODID:-//Antioch Baptist Church - ECPv6.15.20//NONSGML v1.0//EN
CALSCALE:GREGORIAN
METHOD:PUBLISH
X-WR-CALNAME:Antioch Baptist Church
X-ORIGINAL-URL:https://www.abccommunity.com
X-WR-CALDESC:Events for Antioch Baptist Church
REFRESH-INTERVAL;VALUE=DURATION:PT1H
X-Robots-Tag:noindex
X-PUBLISHED-TTL:PT1H
BEGIN:VTIMEZONE
TZID:America/New_York
BEGIN:DAYLIGHT
TZOFFSETFROM:-0500
TZOFFSETTO:-0400
TZNAME:EDT
DTSTART:20250309T070000
END:DAYLIGHT
BEGIN:STANDARD
TZOFFSETFROM:-0400
TZOFFSETTO:-0500
TZNAME:EST
DTSTART:20251102T060000
END:STANDARD
BEGIN:DAYLIGHT
TZOFFSETFROM:-0500
TZOFFSETTO:-0400
TZNAME:EDT
DTSTART:20260308T070000
END:DAYLIGHT
BEGIN:STANDARD
TZOFFSETFROM:-0400
TZOFFSETTO:-0500
TZNAME:EST
DTSTART:20261101T060000
END:STANDARD
BEGIN:DAYLIGHT
TZOFFSETFROM:-0500
TZOFFSETTO:-0400
TZNAME:EDT
DTSTART:20270314T070000
END:DAYLIGHT
BEGIN:STANDARD
TZOFFSETFROM:-0400
TZOFFSETTO:-0500
TZNAME:EST
DTSTART:20271107T060000
END:STANDARD
END:VTIMEZONE
BEGIN:VEVENT
DTSTART;TZID=America/New_York:20260914T183000
DTEND;TZID=America/New_York:20260914T183000
DTSTAMP:20260423T233014
CREATED:20251026T215348Z
LAST-MODIFIED:20251026T215348Z
UID:10002735-1789410600-1789410600@www.abccommunity.com
SUMMARY:Men's Club
DESCRIPTION:
URL:https://www.abccommunity.com/event/mens-club/2026-09-14/
END:VEVENT
BEGIN:VEVENT
DTSTART;TZID=America/New_York:20261012T183000
DTEND;TZID=America/New_York:20261012T183000
DTSTAMP:20260423T233014
CREATED:20251026T215348Z
LAST-MODIFIED:20251026T215348Z
UID:10002736-1791829800-1791829800@www.abccommunity.com
SUMMARY:Men's Club
DESCRIPTION:
URL:https://www.abccommunity.com/event/mens-club/2026-10-12/
END:VEVENT
BEGIN:VEVENT
DTSTART;TZID=America/New_York:20261109T183000
DTEND;TZID=America/New_York:20261109T183000
DTSTAMP:20260423T233014
CREATED:20251026T215348Z
LAST-MODIFIED:20251026T215348Z
UID:10002737-1794249000-1794249000@www.abccommunity.com
SUMMARY:Men's Club
DESCRIPTION:
URL:https://www.abccommunity.com/event/mens-club/2026-11-09/
END:VEVENT
END:VCALENDAR