BEGIN:VCALENDAR
VERSION:2.0
PRODID:-//Antioch Baptist Church - ECPv6.15.20//NONSGML v1.0//EN
CALSCALE:GREGORIAN
METHOD:PUBLISH
X-WR-CALNAME:Antioch Baptist Church
X-ORIGINAL-URL:https://www.abccommunity.com
X-WR-CALDESC:Events for Antioch Baptist Church
REFRESH-INTERVAL;VALUE=DURATION:PT1H
X-Robots-Tag:noindex
X-PUBLISHED-TTL:PT1H
BEGIN:VTIMEZONE
TZID:America/New_York
BEGIN:DAYLIGHT
TZOFFSETFROM:-0500
TZOFFSETTO:-0400
TZNAME:EDT
DTSTART:20250309T070000
END:DAYLIGHT
BEGIN:STANDARD
TZOFFSETFROM:-0400
TZOFFSETTO:-0500
TZNAME:EST
DTSTART:20251102T060000
END:STANDARD
BEGIN:DAYLIGHT
TZOFFSETFROM:-0500
TZOFFSETTO:-0400
TZNAME:EDT
DTSTART:20260308T070000
END:DAYLIGHT
BEGIN:STANDARD
TZOFFSETFROM:-0400
TZOFFSETTO:-0500
TZNAME:EST
DTSTART:20261101T060000
END:STANDARD
BEGIN:DAYLIGHT
TZOFFSETFROM:-0500
TZOFFSETTO:-0400
TZNAME:EDT
DTSTART:20270314T070000
END:DAYLIGHT
BEGIN:STANDARD
TZOFFSETFROM:-0400
TZOFFSETTO:-0500
TZNAME:EST
DTSTART:20271107T060000
END:STANDARD
END:VTIMEZONE
BEGIN:VEVENT
DTSTART;TZID=America/New_York:20260902T180000
DTEND;TZID=America/New_York:20260902T180000
DTSTAMP:20260423T234007
CREATED:20251005T202749Z
LAST-MODIFIED:20251005T202749Z
UID:10002605-1788372000-1788372000@www.abccommunity.com
SUMMARY:Wednesday Night Activities
DESCRIPTION:6:00pm-Supper\, 6:45pm-Youth\, 7:00pm-Adult studies\, Missions Journey: kids\, 8:00pm-Choir
URL:https://www.abccommunity.com/event/wednesday-night-activities-8/2026-09-02/
END:VEVENT
BEGIN:VEVENT
DTSTART;TZID=America/New_York:20260909T180000
DTEND;TZID=America/New_York:20260909T180000
DTSTAMP:20260423T234007
CREATED:20251005T202749Z
LAST-MODIFIED:20251005T202749Z
UID:10002606-1788976800-1788976800@www.abccommunity.com
SUMMARY:Wednesday Night Activities
DESCRIPTION:6:00pm-Supper\, 6:45pm-Youth\, 7:00pm-Adult studies\, Missions Journey: kids\, 8:00pm-Choir
URL:https://www.abccommunity.com/event/wednesday-night-activities-8/2026-09-09/
END:VEVENT
BEGIN:VEVENT
DTSTART;TZID=America/New_York:20260916T180000
DTEND;TZID=America/New_York:20260916T180000
DTSTAMP:20260423T234007
CREATED:20251005T202749Z
LAST-MODIFIED:20251005T202749Z
UID:10002607-1789581600-1789581600@www.abccommunity.com
SUMMARY:Wednesday Night Activities
DESCRIPTION:6:00pm-Supper\, 6:45pm-Youth\, 7:00pm-Adult studies\, Missions Journey: kids\, 8:00pm-Choir
URL:https://www.abccommunity.com/event/wednesday-night-activities-8/2026-09-16/
END:VEVENT
BEGIN:VEVENT
DTSTART;TZID=America/New_York:20260923T180000
DTEND;TZID=America/New_York:20260923T180000
DTSTAMP:20260423T234007
CREATED:20251005T202749Z
LAST-MODIFIED:20251005T202749Z
UID:10002608-1790186400-1790186400@www.abccommunity.com
SUMMARY:Wednesday Night Activities
DESCRIPTION:6:00pm-Supper\, 6:45pm-Youth\, 7:00pm-Adult studies\, Missions Journey: kids\, 8:00pm-Choir
URL:https://www.abccommunity.com/event/wednesday-night-activities-8/2026-09-23/
END:VEVENT
BEGIN:VEVENT
DTSTART;TZID=America/New_York:20260930T180000
DTEND;TZID=America/New_York:20260930T180000
DTSTAMP:20260423T234007
CREATED:20251005T202749Z
LAST-MODIFIED:20251005T202749Z
UID:10002609-1790791200-1790791200@www.abccommunity.com
SUMMARY:Wednesday Night Activities
DESCRIPTION:6:00pm-Supper\, 6:45pm-Youth\, 7:00pm-Adult studies\, Missions Journey: kids\, 8:00pm-Choir
URL:https://www.abccommunity.com/event/wednesday-night-activities-8/2026-09-30/
END:VEVENT
BEGIN:VEVENT
DTSTART;TZID=America/New_York:20261007T180000
DTEND;TZID=America/New_York:20261007T180000
DTSTAMP:20260423T234007
CREATED:20251005T202749Z
LAST-MODIFIED:20251005T202749Z
UID:10002610-1791396000-1791396000@www.abccommunity.com
SUMMARY:Wednesday Night Activities
DESCRIPTION:6:00pm-Supper\, 6:45pm-Youth\, 7:00pm-Adult studies\, Missions Journey: kids\, 8:00pm-Choir
URL:https://www.abccommunity.com/event/wednesday-night-activities-8/2026-10-07/
END:VEVENT
BEGIN:VEVENT
DTSTART;TZID=America/New_York:20261014T180000
DTEND;TZID=America/New_York:20261014T180000
DTSTAMP:20260423T234007
CREATED:20251005T202749Z
LAST-MODIFIED:20251005T202749Z
UID:10002611-1792000800-1792000800@www.abccommunity.com
SUMMARY:Wednesday Night Activities
DESCRIPTION:6:00pm-Supper\, 6:45pm-Youth\, 7:00pm-Adult studies\, Missions Journey: kids\, 8:00pm-Choir
URL:https://www.abccommunity.com/event/wednesday-night-activities-8/2026-10-14/
END:VEVENT
BEGIN:VEVENT
DTSTART;TZID=America/New_York:20261021T180000
DTEND;TZID=America/New_York:20261021T180000
DTSTAMP:20260423T234007
CREATED:20251005T202749Z
LAST-MODIFIED:20251005T202749Z
UID:10002612-1792605600-1792605600@www.abccommunity.com
SUMMARY:Wednesday Night Activities
DESCRIPTION:6:00pm-Supper\, 6:45pm-Youth\, 7:00pm-Adult studies\, Missions Journey: kids\, 8:00pm-Choir
URL:https://www.abccommunity.com/event/wednesday-night-activities-8/2026-10-21/
END:VEVENT
BEGIN:VEVENT
DTSTART;TZID=America/New_York:20261028T180000
DTEND;TZID=America/New_York:20261028T180000
DTSTAMP:20260423T234007
CREATED:20251005T202749Z
LAST-MODIFIED:20251005T202749Z
UID:10002613-1793210400-1793210400@www.abccommunity.com
SUMMARY:Wednesday Night Activities
DESCRIPTION:6:00pm-Supper\, 6:45pm-Youth\, 7:00pm-Adult studies\, Missions Journey: kids\, 8:00pm-Choir
URL:https://www.abccommunity.com/event/wednesday-night-activities-8/2026-10-28/
END:VEVENT
BEGIN:VEVENT
DTSTART;TZID=America/New_York:20261104T180000
DTEND;TZID=America/New_York:20261104T180000
DTSTAMP:20260423T234007
CREATED:20251005T202749Z
LAST-MODIFIED:20251005T202749Z
UID:10002614-1793815200-1793815200@www.abccommunity.com
SUMMARY:Wednesday Night Activities
DESCRIPTION:6:00pm-Supper\, 6:45pm-Youth\, 7:00pm-Adult studies\, Missions Journey: kids\, 8:00pm-Choir
URL:https://www.abccommunity.com/event/wednesday-night-activities-8/2026-11-04/
END:VEVENT
BEGIN:VEVENT
DTSTART;TZID=America/New_York:20261111T180000
DTEND;TZID=America/New_York:20261111T180000
DTSTAMP:20260423T234007
CREATED:20251005T202749Z
LAST-MODIFIED:20251005T202749Z
UID:10002615-1794420000-1794420000@www.abccommunity.com
SUMMARY:Wednesday Night Activities
DESCRIPTION:6:00pm-Supper\, 6:45pm-Youth\, 7:00pm-Adult studies\, Missions Journey: kids\, 8:00pm-Choir
URL:https://www.abccommunity.com/event/wednesday-night-activities-8/2026-11-11/
END:VEVENT
BEGIN:VEVENT
DTSTART;TZID=America/New_York:20261118T180000
DTEND;TZID=America/New_York:20261118T180000
DTSTAMP:20260423T234007
CREATED:20251005T202749Z
LAST-MODIFIED:20251005T202749Z
UID:10002616-1795024800-1795024800@www.abccommunity.com
SUMMARY:Wednesday Night Activities
DESCRIPTION:6:00pm-Supper\, 6:45pm-Youth\, 7:00pm-Adult studies\, Missions Journey: kids\, 8:00pm-Choir
URL:https://www.abccommunity.com/event/wednesday-night-activities-8/2026-11-18/
END:VEVENT
END:VCALENDAR