BEGIN:VCALENDAR
VERSION:2.0
PRODID:-//Antioch Baptist Church - ECPv6.15.20//NONSGML v1.0//EN
CALSCALE:GREGORIAN
METHOD:PUBLISH
X-WR-CALNAME:Antioch Baptist Church
X-ORIGINAL-URL:https://www.abccommunity.com
X-WR-CALDESC:Events for Antioch Baptist Church
REFRESH-INTERVAL;VALUE=DURATION:PT1H
X-Robots-Tag:noindex
X-PUBLISHED-TTL:PT1H
BEGIN:VTIMEZONE
TZID:America/New_York
BEGIN:DAYLIGHT
TZOFFSETFROM:-0500
TZOFFSETTO:-0400
TZNAME:EDT
DTSTART:20250309T070000
END:DAYLIGHT
BEGIN:STANDARD
TZOFFSETFROM:-0400
TZOFFSETTO:-0500
TZNAME:EST
DTSTART:20251102T060000
END:STANDARD
BEGIN:DAYLIGHT
TZOFFSETFROM:-0500
TZOFFSETTO:-0400
TZNAME:EDT
DTSTART:20260308T070000
END:DAYLIGHT
BEGIN:STANDARD
TZOFFSETFROM:-0400
TZOFFSETTO:-0500
TZNAME:EST
DTSTART:20261101T060000
END:STANDARD
BEGIN:DAYLIGHT
TZOFFSETFROM:-0500
TZOFFSETTO:-0400
TZNAME:EDT
DTSTART:20270314T070000
END:DAYLIGHT
BEGIN:STANDARD
TZOFFSETFROM:-0400
TZOFFSETTO:-0500
TZNAME:EST
DTSTART:20271107T060000
END:STANDARD
END:VTIMEZONE
BEGIN:VEVENT
DTSTART;TZID=America/New_York:20260913T173000
DTEND;TZID=America/New_York:20260913T190000
DTSTAMP:20260423T234001
CREATED:20251005T195433Z
LAST-MODIFIED:20251223T195356Z
UID:10002478-1789320600-1789326000@www.abccommunity.com
SUMMARY:Youth Small Groups
DESCRIPTION:Grades 6th – 12th.
URL:https://www.abccommunity.com/event/youth-discipleship-groups-2/2026-09-13/
END:VEVENT
BEGIN:VEVENT
DTSTART;TZID=America/New_York:20260920T173000
DTEND;TZID=America/New_York:20260920T190000
DTSTAMP:20260423T234001
CREATED:20251005T195433Z
LAST-MODIFIED:20251223T195356Z
UID:10002479-1789925400-1789930800@www.abccommunity.com
SUMMARY:Youth Small Groups
DESCRIPTION:Grades 6th – 12th.
URL:https://www.abccommunity.com/event/youth-discipleship-groups-2/2026-09-20/
END:VEVENT
BEGIN:VEVENT
DTSTART;TZID=America/New_York:20260927T173000
DTEND;TZID=America/New_York:20260927T190000
DTSTAMP:20260423T234001
CREATED:20251005T195433Z
LAST-MODIFIED:20251223T195356Z
UID:10002480-1790530200-1790535600@www.abccommunity.com
SUMMARY:Youth Small Groups
DESCRIPTION:Grades 6th – 12th.
URL:https://www.abccommunity.com/event/youth-discipleship-groups-2/2026-09-27/
END:VEVENT
BEGIN:VEVENT
DTSTART;TZID=America/New_York:20261004T173000
DTEND;TZID=America/New_York:20261004T190000
DTSTAMP:20260423T234001
CREATED:20251005T195433Z
LAST-MODIFIED:20251223T195356Z
UID:10002481-1791135000-1791140400@www.abccommunity.com
SUMMARY:Youth Small Groups
DESCRIPTION:Grades 6th – 12th.
URL:https://www.abccommunity.com/event/youth-discipleship-groups-2/2026-10-04/
END:VEVENT
BEGIN:VEVENT
DTSTART;TZID=America/New_York:20261018T173000
DTEND;TZID=America/New_York:20261018T190000
DTSTAMP:20260423T234001
CREATED:20251005T195433Z
LAST-MODIFIED:20251223T195356Z
UID:10002483-1792344600-1792350000@www.abccommunity.com
SUMMARY:Youth Small Groups
DESCRIPTION:Grades 6th – 12th.
URL:https://www.abccommunity.com/event/youth-discipleship-groups-2/2026-10-18/
END:VEVENT
BEGIN:VEVENT
DTSTART;TZID=America/New_York:20261025T173000
DTEND;TZID=America/New_York:20261025T190000
DTSTAMP:20260423T234001
CREATED:20251005T195433Z
LAST-MODIFIED:20251223T195356Z
UID:10002484-1792949400-1792954800@www.abccommunity.com
SUMMARY:Youth Small Groups
DESCRIPTION:Grades 6th – 12th.
URL:https://www.abccommunity.com/event/youth-discipleship-groups-2/2026-10-25/
END:VEVENT
BEGIN:VEVENT
DTSTART;TZID=America/New_York:20261101T173000
DTEND;TZID=America/New_York:20261101T190000
DTSTAMP:20260423T234001
CREATED:20251005T195433Z
LAST-MODIFIED:20251223T195356Z
UID:10002485-1793554200-1793559600@www.abccommunity.com
SUMMARY:Youth Small Groups
DESCRIPTION:Grades 6th – 12th.
URL:https://www.abccommunity.com/event/youth-discipleship-groups-2/2026-11-01/
END:VEVENT
BEGIN:VEVENT
DTSTART;TZID=America/New_York:20261108T173000
DTEND;TZID=America/New_York:20261108T190000
DTSTAMP:20260423T234001
CREATED:20251005T195433Z
LAST-MODIFIED:20251223T195356Z
UID:10002486-1794159000-1794164400@www.abccommunity.com
SUMMARY:Youth Small Groups
DESCRIPTION:Grades 6th – 12th.
URL:https://www.abccommunity.com/event/youth-discipleship-groups-2/2026-11-08/
END:VEVENT
BEGIN:VEVENT
DTSTART;TZID=America/New_York:20261115T173000
DTEND;TZID=America/New_York:20261115T190000
DTSTAMP:20260423T234001
CREATED:20251005T195433Z
LAST-MODIFIED:20251223T195356Z
UID:10002487-1794763800-1794769200@www.abccommunity.com
SUMMARY:Youth Small Groups
DESCRIPTION:Grades 6th – 12th.
URL:https://www.abccommunity.com/event/youth-discipleship-groups-2/2026-11-15/
END:VEVENT
BEGIN:VEVENT
DTSTART;TZID=America/New_York:20261122T173000
DTEND;TZID=America/New_York:20261122T190000
DTSTAMP:20260423T234001
CREATED:20251005T195433Z
LAST-MODIFIED:20251223T195356Z
UID:10002488-1795368600-1795374000@www.abccommunity.com
SUMMARY:Youth Small Groups
DESCRIPTION:Grades 6th – 12th.
URL:https://www.abccommunity.com/event/youth-discipleship-groups-2/2026-11-22/
END:VEVENT
END:VCALENDAR