BEGIN:VCALENDAR
VERSION:2.0
PRODID:-//Antioch Baptist Church - ECPv6.15.20//NONSGML v1.0//EN
CALSCALE:GREGORIAN
METHOD:PUBLISH
X-WR-CALNAME:Antioch Baptist Church
X-ORIGINAL-URL:https://www.abccommunity.com
X-WR-CALDESC:Events for Antioch Baptist Church
REFRESH-INTERVAL;VALUE=DURATION:PT1H
X-Robots-Tag:noindex
X-PUBLISHED-TTL:PT1H
BEGIN:VTIMEZONE
TZID:America/New_York
BEGIN:DAYLIGHT
TZOFFSETFROM:-0500
TZOFFSETTO:-0400
TZNAME:EDT
DTSTART:20250309T070000
END:DAYLIGHT
BEGIN:STANDARD
TZOFFSETFROM:-0400
TZOFFSETTO:-0500
TZNAME:EST
DTSTART:20251102T060000
END:STANDARD
BEGIN:DAYLIGHT
TZOFFSETFROM:-0500
TZOFFSETTO:-0400
TZNAME:EDT
DTSTART:20260308T070000
END:DAYLIGHT
BEGIN:STANDARD
TZOFFSETFROM:-0400
TZOFFSETTO:-0500
TZNAME:EST
DTSTART:20261101T060000
END:STANDARD
BEGIN:DAYLIGHT
TZOFFSETFROM:-0500
TZOFFSETTO:-0400
TZNAME:EDT
DTSTART:20270314T070000
END:DAYLIGHT
BEGIN:STANDARD
TZOFFSETFROM:-0400
TZOFFSETTO:-0500
TZNAME:EST
DTSTART:20271107T060000
END:STANDARD
END:VTIMEZONE
BEGIN:VEVENT
DTSTART;TZID=America/New_York:20260913T160000
DTEND;TZID=America/New_York:20260913T173000
DTSTAMP:20260424T015900
CREATED:20251005T195224Z
LAST-MODIFIED:20251223T194756Z
UID:10002464-1789315200-1789320600@www.abccommunity.com
SUMMARY:Youth Band
DESCRIPTION:Grades 6th -12th.
URL:https://www.abccommunity.com/event/youth-band-projects-3/2026-09-13/
END:VEVENT
BEGIN:VEVENT
DTSTART;TZID=America/New_York:20260920T160000
DTEND;TZID=America/New_York:20260920T173000
DTSTAMP:20260424T015900
CREATED:20251005T195224Z
LAST-MODIFIED:20251223T194756Z
UID:10002465-1789920000-1789925400@www.abccommunity.com
SUMMARY:Youth Band
DESCRIPTION:Grades 6th -12th.
URL:https://www.abccommunity.com/event/youth-band-projects-3/2026-09-20/
END:VEVENT
BEGIN:VEVENT
DTSTART;TZID=America/New_York:20260927T160000
DTEND;TZID=America/New_York:20260927T173000
DTSTAMP:20260424T015900
CREATED:20251005T195224Z
LAST-MODIFIED:20251223T194756Z
UID:10002466-1790524800-1790530200@www.abccommunity.com
SUMMARY:Youth Band
DESCRIPTION:Grades 6th -12th.
URL:https://www.abccommunity.com/event/youth-band-projects-3/2026-09-27/
END:VEVENT
BEGIN:VEVENT
DTSTART;TZID=America/New_York:20261004T160000
DTEND;TZID=America/New_York:20261004T173000
DTSTAMP:20260424T015900
CREATED:20251005T195224Z
LAST-MODIFIED:20251223T194756Z
UID:10002467-1791129600-1791135000@www.abccommunity.com
SUMMARY:Youth Band
DESCRIPTION:Grades 6th -12th.
URL:https://www.abccommunity.com/event/youth-band-projects-3/2026-10-04/
END:VEVENT
BEGIN:VEVENT
DTSTART;TZID=America/New_York:20261018T160000
DTEND;TZID=America/New_York:20261018T173000
DTSTAMP:20260424T015900
CREATED:20251005T195224Z
LAST-MODIFIED:20251223T194756Z
UID:10002469-1792339200-1792344600@www.abccommunity.com
SUMMARY:Youth Band
DESCRIPTION:Grades 6th -12th.
URL:https://www.abccommunity.com/event/youth-band-projects-3/2026-10-18/
END:VEVENT
BEGIN:VEVENT
DTSTART;TZID=America/New_York:20261025T160000
DTEND;TZID=America/New_York:20261025T173000
DTSTAMP:20260424T015900
CREATED:20251005T195224Z
LAST-MODIFIED:20251223T194756Z
UID:10002470-1792944000-1792949400@www.abccommunity.com
SUMMARY:Youth Band
DESCRIPTION:Grades 6th -12th.
URL:https://www.abccommunity.com/event/youth-band-projects-3/2026-10-25/
END:VEVENT
BEGIN:VEVENT
DTSTART;TZID=America/New_York:20261101T160000
DTEND;TZID=America/New_York:20261101T173000
DTSTAMP:20260424T015900
CREATED:20251005T195224Z
LAST-MODIFIED:20251223T194756Z
UID:10002471-1793548800-1793554200@www.abccommunity.com
SUMMARY:Youth Band
DESCRIPTION:Grades 6th -12th.
URL:https://www.abccommunity.com/event/youth-band-projects-3/2026-11-01/
END:VEVENT
BEGIN:VEVENT
DTSTART;TZID=America/New_York:20261108T160000
DTEND;TZID=America/New_York:20261108T173000
DTSTAMP:20260424T015900
CREATED:20251005T195224Z
LAST-MODIFIED:20251223T194756Z
UID:10002472-1794153600-1794159000@www.abccommunity.com
SUMMARY:Youth Band
DESCRIPTION:Grades 6th -12th.
URL:https://www.abccommunity.com/event/youth-band-projects-3/2026-11-08/
END:VEVENT
BEGIN:VEVENT
DTSTART;TZID=America/New_York:20261115T160000
DTEND;TZID=America/New_York:20261115T173000
DTSTAMP:20260424T015900
CREATED:20251005T195224Z
LAST-MODIFIED:20251223T194756Z
UID:10002473-1794758400-1794763800@www.abccommunity.com
SUMMARY:Youth Band
DESCRIPTION:Grades 6th -12th.
URL:https://www.abccommunity.com/event/youth-band-projects-3/2026-11-15/
END:VEVENT
BEGIN:VEVENT
DTSTART;TZID=America/New_York:20261122T160000
DTEND;TZID=America/New_York:20261122T173000
DTSTAMP:20260424T015900
CREATED:20251005T195224Z
LAST-MODIFIED:20251223T194756Z
UID:10002474-1795363200-1795368600@www.abccommunity.com
SUMMARY:Youth Band
DESCRIPTION:Grades 6th -12th.
URL:https://www.abccommunity.com/event/youth-band-projects-3/2026-11-22/
END:VEVENT
END:VCALENDAR