BEGIN:VCALENDAR
VERSION:2.0
PRODID:-//Antioch Baptist Church - ECPv6.15.20//NONSGML v1.0//EN
CALSCALE:GREGORIAN
METHOD:PUBLISH
X-WR-CALNAME:Antioch Baptist Church
X-ORIGINAL-URL:https://www.abccommunity.com
X-WR-CALDESC:Events for Antioch Baptist Church
REFRESH-INTERVAL;VALUE=DURATION:PT1H
X-Robots-Tag:noindex
X-PUBLISHED-TTL:PT1H
BEGIN:VTIMEZONE
TZID:America/New_York
BEGIN:DAYLIGHT
TZOFFSETFROM:-0500
TZOFFSETTO:-0400
TZNAME:EDT
DTSTART:20250309T070000
END:DAYLIGHT
BEGIN:STANDARD
TZOFFSETFROM:-0400
TZOFFSETTO:-0500
TZNAME:EST
DTSTART:20251102T060000
END:STANDARD
BEGIN:DAYLIGHT
TZOFFSETFROM:-0500
TZOFFSETTO:-0400
TZNAME:EDT
DTSTART:20260308T070000
END:DAYLIGHT
BEGIN:STANDARD
TZOFFSETFROM:-0400
TZOFFSETTO:-0500
TZNAME:EST
DTSTART:20261101T060000
END:STANDARD
BEGIN:DAYLIGHT
TZOFFSETFROM:-0500
TZOFFSETTO:-0400
TZNAME:EDT
DTSTART:20270314T070000
END:DAYLIGHT
BEGIN:STANDARD
TZOFFSETFROM:-0400
TZOFFSETTO:-0500
TZNAME:EST
DTSTART:20271107T060000
END:STANDARD
END:VTIMEZONE
BEGIN:VEVENT
DTSTART;TZID=America/New_York:20260614T180000
DTEND;TZID=America/New_York:20260614T180000
DTSTAMP:20260423T184640
CREATED:20251005T175626Z
LAST-MODIFIED:20251005T175626Z
UID:10002343-1781460000-1781460000@www.abccommunity.com
SUMMARY:Business Meeting
DESCRIPTION:
URL:https://www.abccommunity.com/event/business-meeting/2026-06-14/
END:VEVENT
BEGIN:VEVENT
DTSTART;TZID=America/New_York:20260809T180000
DTEND;TZID=America/New_York:20260809T180000
DTSTAMP:20260423T184640
CREATED:20251005T175626Z
LAST-MODIFIED:20251005T175626Z
UID:10002344-1786298400-1786298400@www.abccommunity.com
SUMMARY:Business Meeting
DESCRIPTION:
URL:https://www.abccommunity.com/event/business-meeting/2026-08-09/
END:VEVENT
BEGIN:VEVENT
DTSTART;TZID=America/New_York:20261011T180000
DTEND;TZID=America/New_York:20261011T180000
DTSTAMP:20260423T184640
CREATED:20251005T175626Z
LAST-MODIFIED:20251005T175626Z
UID:10002345-1791741600-1791741600@www.abccommunity.com
SUMMARY:Business Meeting
DESCRIPTION:
URL:https://www.abccommunity.com/event/business-meeting/2026-10-11/
END:VEVENT
BEGIN:VEVENT
DTSTART;TZID=America/New_York:20261213T180000
DTEND;TZID=America/New_York:20261213T180000
DTSTAMP:20260423T184640
CREATED:20251005T175626Z
LAST-MODIFIED:20251005T175626Z
UID:10002346-1797184800-1797184800@www.abccommunity.com
SUMMARY:Business Meeting
DESCRIPTION:
URL:https://www.abccommunity.com/event/business-meeting/2026-12-13/
END:VEVENT
END:VCALENDAR