BEGIN:VCALENDAR
VERSION:2.0
PRODID:-//Antioch Baptist Church - ECPv6.15.20//NONSGML v1.0//EN
CALSCALE:GREGORIAN
METHOD:PUBLISH
X-WR-CALNAME:Antioch Baptist Church
X-ORIGINAL-URL:https://www.abccommunity.com
X-WR-CALDESC:Events for Antioch Baptist Church
REFRESH-INTERVAL;VALUE=DURATION:PT1H
X-Robots-Tag:noindex
X-PUBLISHED-TTL:PT1H
BEGIN:VTIMEZONE
TZID:America/New_York
BEGIN:DAYLIGHT
TZOFFSETFROM:-0500
TZOFFSETTO:-0400
TZNAME:EDT
DTSTART:20250309T070000
END:DAYLIGHT
BEGIN:STANDARD
TZOFFSETFROM:-0400
TZOFFSETTO:-0500
TZNAME:EST
DTSTART:20251102T060000
END:STANDARD
BEGIN:DAYLIGHT
TZOFFSETFROM:-0500
TZOFFSETTO:-0400
TZNAME:EDT
DTSTART:20260308T070000
END:DAYLIGHT
BEGIN:STANDARD
TZOFFSETFROM:-0400
TZOFFSETTO:-0500
TZNAME:EST
DTSTART:20261101T060000
END:STANDARD
BEGIN:DAYLIGHT
TZOFFSETFROM:-0500
TZOFFSETTO:-0400
TZNAME:EDT
DTSTART:20270314T070000
END:DAYLIGHT
BEGIN:STANDARD
TZOFFSETFROM:-0400
TZOFFSETTO:-0500
TZNAME:EST
DTSTART:20271107T060000
END:STANDARD
END:VTIMEZONE
BEGIN:VEVENT
DTSTART;TZID=America/New_York:20260504T180000
DTEND;TZID=America/New_York:20260504T180000
DTSTAMP:20260423T221518
CREATED:20251005T175220Z
LAST-MODIFIED:20251031T162605Z
UID:10002762-1777917600-1777917600@www.abccommunity.com
SUMMARY:Church Council Meeting
DESCRIPTION:
URL:https://www.abccommunity.com/event/church-council-meeting-3/2026-05-04/
END:VEVENT
BEGIN:VEVENT
DTSTART;TZID=America/New_York:20260601T180000
DTEND;TZID=America/New_York:20260601T180000
DTSTAMP:20260423T221518
CREATED:20251005T175220Z
LAST-MODIFIED:20251031T162605Z
UID:10002763-1780336800-1780336800@www.abccommunity.com
SUMMARY:Church Council Meeting
DESCRIPTION:
URL:https://www.abccommunity.com/event/church-council-meeting-3/2026-06-01/
END:VEVENT
BEGIN:VEVENT
DTSTART;TZID=America/New_York:20260803T180000
DTEND;TZID=America/New_York:20260803T180000
DTSTAMP:20260423T221518
CREATED:20251005T175220Z
LAST-MODIFIED:20251031T162605Z
UID:10002765-1785780000-1785780000@www.abccommunity.com
SUMMARY:Church Council Meeting
DESCRIPTION:
URL:https://www.abccommunity.com/event/church-council-meeting-3/2026-08-03/
END:VEVENT
BEGIN:VEVENT
DTSTART;TZID=America/New_York:20261005T180000
DTEND;TZID=America/New_York:20261005T180000
DTSTAMP:20260423T221518
CREATED:20251005T175220Z
LAST-MODIFIED:20251031T162605Z
UID:10002767-1791223200-1791223200@www.abccommunity.com
SUMMARY:Church Council Meeting
DESCRIPTION:
URL:https://www.abccommunity.com/event/church-council-meeting-3/2026-10-05/
END:VEVENT
BEGIN:VEVENT
DTSTART;TZID=America/New_York:20261102T180000
DTEND;TZID=America/New_York:20261102T180000
DTSTAMP:20260423T221518
CREATED:20251005T175220Z
LAST-MODIFIED:20251031T162605Z
UID:10002768-1793642400-1793642400@www.abccommunity.com
SUMMARY:Church Council Meeting
DESCRIPTION:
URL:https://www.abccommunity.com/event/church-council-meeting-3/2026-11-02/
END:VEVENT
BEGIN:VEVENT
DTSTART;TZID=America/New_York:20261207T180000
DTEND;TZID=America/New_York:20261207T180000
DTSTAMP:20260423T221518
CREATED:20251005T175220Z
LAST-MODIFIED:20251031T162605Z
UID:10002769-1796666400-1796666400@www.abccommunity.com
SUMMARY:Church Council Meeting
DESCRIPTION:
URL:https://www.abccommunity.com/event/church-council-meeting-3/2026-12-07/
END:VEVENT
END:VCALENDAR