BEGIN:VCALENDAR
VERSION:2.0
PRODID:-//Antioch Baptist Church - ECPv6.15.20//NONSGML v1.0//EN
CALSCALE:GREGORIAN
METHOD:PUBLISH
X-ORIGINAL-URL:https://www.abccommunity.com
X-WR-CALDESC:Events for Antioch Baptist Church
REFRESH-INTERVAL;VALUE=DURATION:PT1H
X-Robots-Tag:noindex
X-PUBLISHED-TTL:PT1H
BEGIN:VTIMEZONE
TZID:America/New_York
BEGIN:DAYLIGHT
TZOFFSETFROM:-0500
TZOFFSETTO:-0400
TZNAME:EDT
DTSTART:20250309T070000
END:DAYLIGHT
BEGIN:STANDARD
TZOFFSETFROM:-0400
TZOFFSETTO:-0500
TZNAME:EST
DTSTART:20251102T060000
END:STANDARD
BEGIN:DAYLIGHT
TZOFFSETFROM:-0500
TZOFFSETTO:-0400
TZNAME:EDT
DTSTART:20260308T070000
END:DAYLIGHT
BEGIN:STANDARD
TZOFFSETFROM:-0400
TZOFFSETTO:-0500
TZNAME:EST
DTSTART:20261101T060000
END:STANDARD
BEGIN:DAYLIGHT
TZOFFSETFROM:-0500
TZOFFSETTO:-0400
TZNAME:EDT
DTSTART:20270314T070000
END:DAYLIGHT
BEGIN:STANDARD
TZOFFSETFROM:-0400
TZOFFSETTO:-0500
TZNAME:EST
DTSTART:20271107T060000
END:STANDARD
END:VTIMEZONE
BEGIN:VEVENT
DTSTART;TZID=America/New_York:20261201T100000
DTEND;TZID=America/New_York:20261201T100000
DTSTAMP:20260424T044802
CREATED:20260417T172147Z
LAST-MODIFIED:20260417T172147Z
UID:10002940-1796119200-1796119200@www.abccommunity.com
SUMMARY:Women's Bible Study
DESCRIPTION:
URL:https://www.abccommunity.com/event/womens-bible-study-7/2026-12-01/
END:VEVENT
BEGIN:VEVENT
DTSTART;TZID=America/New_York:20261201T190000
DTEND;TZID=America/New_York:20261201T190000
DTSTAMP:20260424T044802
CREATED:20260202T193759Z
LAST-MODIFIED:20260202T193815Z
UID:10002867-1796151600-1796151600@www.abccommunity.com
SUMMARY:Cemetery Committee Meeting
DESCRIPTION:
URL:https://www.abccommunity.com/event/cemetery-committee-meeting-2/2026-12-01/
END:VEVENT
BEGIN:VEVENT
DTSTART;TZID=America/New_York:20261202T180000
DTEND;TZID=America/New_York:20261202T180000
DTSTAMP:20260424T044802
CREATED:20251005T203926Z
LAST-MODIFIED:20251005T203926Z
UID:10002623-1796234400-1796234400@www.abccommunity.com
SUMMARY:Wednesday Night Services
DESCRIPTION:6:00pm-Supper\, 6:45pm-Youth\, 7:00pm-Adult studies\, Missions Journey: kids. 8:00-Choir
URL:https://www.abccommunity.com/event/wednesday-night-services-6/2026-12-02/
END:VEVENT
BEGIN:VEVENT
DTSTART;TZID=America/New_York:20261205T000000
DTEND;TZID=America/New_York:20261205T235959
DTSTAMP:20260424T044802
CREATED:20260205T163056Z
LAST-MODIFIED:20260205T163104Z
UID:10002885-1796428800-1796515199@www.abccommunity.com
SUMMARY:(FHR) Women's Tea
DESCRIPTION:
URL:https://www.abccommunity.com/event/fhr-womens-tea-2/
END:VEVENT
BEGIN:VEVENT
DTSTART;TZID=America/New_York:20261206T000000
DTEND;TZID=America/New_York:20261206T235959
DTSTAMP:20260424T044802
CREATED:20260205T162925Z
LAST-MODIFIED:20260205T162929Z
UID:10002884-1796515200-1796601599@www.abccommunity.com
SUMMARY:(FHR) Youth Dinner & Auction Scholarship Fundraiser
DESCRIPTION:
URL:https://www.abccommunity.com/event/fhr-youth-dinner-auction-scholarship-fundraiser/
END:VEVENT
BEGIN:VEVENT
DTSTART;TZID=America/New_York:20261206T120000
DTEND;TZID=America/New_York:20261206T120000
DTSTAMP:20260424T044802
CREATED:20260218T162554Z
LAST-MODIFIED:20260320T150625Z
UID:10002893-1796558400-1796558400@www.abccommunity.com
SUMMARY:Sunday Lunch
DESCRIPTION:Covered-dish lunch after worship service.  Open to all.
URL:https://www.abccommunity.com/event/fellowship-lunch-8/
END:VEVENT
BEGIN:VEVENT
DTSTART;TZID=America/New_York:20261207T180000
DTEND;TZID=America/New_York:20261207T180000
DTSTAMP:20260424T044802
CREATED:20251005T175220Z
LAST-MODIFIED:20251031T162605Z
UID:10002769-1796666400-1796666400@www.abccommunity.com
SUMMARY:Church Council Meeting
DESCRIPTION:
URL:https://www.abccommunity.com/event/church-council-meeting-3/2026-12-07/
END:VEVENT
BEGIN:VEVENT
DTSTART;TZID=America/New_York:20261208T100000
DTEND;TZID=America/New_York:20261208T100000
DTSTAMP:20260424T044802
CREATED:20260417T172147Z
LAST-MODIFIED:20260417T172147Z
UID:10002941-1796724000-1796724000@www.abccommunity.com
SUMMARY:Women's Bible Study
DESCRIPTION:
URL:https://www.abccommunity.com/event/womens-bible-study-7/2026-12-08/
END:VEVENT
BEGIN:VEVENT
DTSTART;TZID=America/New_York:20261208T180000
DTEND;TZID=America/New_York:20261208T180000
DTSTAMP:20260424T044802
CREATED:20251005T204705Z
LAST-MODIFIED:20251209T155542Z
UID:10002794-1796752800-1796752800@www.abccommunity.com
SUMMARY:Budget & Finance Committee Meeting
DESCRIPTION:
URL:https://www.abccommunity.com/event/budget-finance-committee-meeting/2026-12-08/
END:VEVENT
BEGIN:VEVENT
DTSTART;TZID=America/New_York:20261209T180000
DTEND;TZID=America/New_York:20261209T180000
DTSTAMP:20260424T044802
CREATED:20251005T203926Z
LAST-MODIFIED:20251005T203926Z
UID:10002624-1796839200-1796839200@www.abccommunity.com
SUMMARY:Wednesday Night Services
DESCRIPTION:6:00pm-Supper\, 6:45pm-Youth\, 7:00pm-Adult studies\, Missions Journey: kids. 8:00-Choir
URL:https://www.abccommunity.com/event/wednesday-night-services-6/2026-12-09/
END:VEVENT
BEGIN:VEVENT
DTSTART;TZID=America/New_York:20261210T190000
DTEND;TZID=America/New_York:20261210T190000
DTSTAMP:20260424T044802
CREATED:20251005T205301Z
LAST-MODIFIED:20251005T205301Z
UID:10002665-1796929200-1796929200@www.abccommunity.com
SUMMARY:Outreach Committee Meeting
DESCRIPTION:
URL:https://www.abccommunity.com/event/outreach-committee-meeting-3/2026-12-10/
END:VEVENT
BEGIN:VEVENT
DTSTART;TZID=America/New_York:20261211T000000
DTEND;TZID=America/New_York:20261211T235959
DTSTAMP:20260424T044802
CREATED:20260205T162753Z
LAST-MODIFIED:20260205T162828Z
UID:10002883-1796947200-1797033599@www.abccommunity.com
SUMMARY:Men's Beast Feast
DESCRIPTION:
URL:https://www.abccommunity.com/event/fhr-womens-tea/
END:VEVENT
BEGIN:VEVENT
DTSTART;TZID=America/New_York:20261212T150000
DTEND;TZID=America/New_York:20261212T210000
DTSTAMP:20260424T044802
CREATED:20251216T142418Z
LAST-MODIFIED:20251216T142418Z
UID:10002799-1797087600-1797109200@www.abccommunity.com
SUMMARY:(FHR) Outreach
DESCRIPTION:
URL:https://www.abccommunity.com/event/fhr-outreach-4/
END:VEVENT
BEGIN:VEVENT
DTSTART;TZID=America/New_York:20261213T180000
DTEND;TZID=America/New_York:20261213T180000
DTSTAMP:20260424T044802
CREATED:20251005T175626Z
LAST-MODIFIED:20251005T175626Z
UID:10002346-1797184800-1797184800@www.abccommunity.com
SUMMARY:Business Meeting
DESCRIPTION:
URL:https://www.abccommunity.com/event/business-meeting/2026-12-13/
END:VEVENT
BEGIN:VEVENT
DTSTART;TZID=America/New_York:20261214T100000
DTEND;TZID=America/New_York:20261214T100000
DTSTAMP:20260424T044802
CREATED:20251026T194646Z
LAST-MODIFIED:20251026T194646Z
UID:10002702-1797242400-1797242400@www.abccommunity.com
SUMMARY:ECA (FH)
DESCRIPTION:
URL:https://www.abccommunity.com/event/eca-fh-3/2026-12-14/
END:VEVENT
BEGIN:VEVENT
DTSTART;TZID=America/New_York:20261215T090000
DTEND;TZID=America/New_York:20261215T090000
DTSTAMP:20260424T044802
CREATED:20251026T221246Z
LAST-MODIFIED:20251026T221300Z
UID:10002748-1797325200-1797325200@www.abccommunity.com
SUMMARY:January newsletter articles are due.
DESCRIPTION:
URL:https://www.abccommunity.com/event/january-newsletter-articles-are-due/
END:VEVENT
BEGIN:VEVENT
DTSTART;TZID=America/New_York:20261215T100000
DTEND;TZID=America/New_York:20261215T100000
DTSTAMP:20260424T044802
CREATED:20260417T172147Z
LAST-MODIFIED:20260417T172147Z
UID:10002942-1797328800-1797328800@www.abccommunity.com
SUMMARY:Women's Bible Study
DESCRIPTION:
URL:https://www.abccommunity.com/event/womens-bible-study-7/2026-12-15/
END:VEVENT
BEGIN:VEVENT
DTSTART;TZID=America/New_York:20261216T180000
DTEND;TZID=America/New_York:20261216T180000
DTSTAMP:20260424T044802
CREATED:20251005T203926Z
LAST-MODIFIED:20251005T203926Z
UID:10002625-1797444000-1797444000@www.abccommunity.com
SUMMARY:Wednesday Night Services
DESCRIPTION:6:00pm-Supper\, 6:45pm-Youth\, 7:00pm-Adult studies\, Missions Journey: kids. 8:00-Choir
URL:https://www.abccommunity.com/event/wednesday-night-services-6/2026-12-16/
END:VEVENT
BEGIN:VEVENT
DTSTART;TZID=America/New_York:20261219T110000
DTEND;TZID=America/New_York:20261219T150000
DTSTAMP:20260424T044802
CREATED:20251210T183442Z
LAST-MODIFIED:20251210T183459Z
UID:10002796-1797678000-1797692400@www.abccommunity.com
SUMMARY:(FHR) Private Event
DESCRIPTION:
URL:https://www.abccommunity.com/event/fhr-private-event-5/
END:VEVENT
BEGIN:VEVENT
DTSTART;TZID=America/New_York:20261221T190000
DTEND;TZID=America/New_York:20261221T190000
DTSTAMP:20260424T044802
CREATED:20251005T205019Z
LAST-MODIFIED:20251005T205019Z
UID:10002653-1797879600-1797879600@www.abccommunity.com
SUMMARY:Deacons' Meeting
DESCRIPTION:
URL:https://www.abccommunity.com/event/deacons-meeting-3/2026-12-21/
END:VEVENT
BEGIN:VEVENT
DTSTART;TZID=America/New_York:20261222T000000
DTEND;TZID=America/New_York:20261222T235959
DTSTAMP:20260424T044802
CREATED:20251026T203916Z
LAST-MODIFIED:20251026T203926Z
UID:10002725-1797897600-1797983999@www.abccommunity.com
SUMMARY:(FHR) Event set-up
DESCRIPTION:
URL:https://www.abccommunity.com/event/fhr-event-set-up-4/
END:VEVENT
BEGIN:VEVENT
DTSTART;TZID=America/New_York:20261223T000000
DTEND;TZID=America/New_York:20261223T235959
DTSTAMP:20260424T044802
CREATED:20251005T195825Z
LAST-MODIFIED:20251005T195832Z
UID:10002493-1797984000-1798070399@www.abccommunity.com
SUMMARY:(FHR) set-up
DESCRIPTION:
URL:https://www.abccommunity.com/event/fhr-set-up-2/
END:VEVENT
BEGIN:VEVENT
DTSTART;TZID=America/New_York:20261223T180000
DTEND;TZID=America/New_York:20261223T180000
DTSTAMP:20260424T044802
CREATED:20251005T204126Z
LAST-MODIFIED:20251005T204126Z
UID:10002627-1798048800-1798048800@www.abccommunity.com
SUMMARY:No Services
DESCRIPTION:
URL:https://www.abccommunity.com/event/no-services/
END:VEVENT
BEGIN:VEVENT
DTSTART;TZID=America/New_York:20261224T173000
DTEND;TZID=America/New_York:20261224T173000
DTSTAMP:20260424T044802
CREATED:20251005T195730Z
LAST-MODIFIED:20251005T195737Z
UID:10002492-1798133400-1798133400@www.abccommunity.com
SUMMARY:Christmas Eve Communion & Family Meal
DESCRIPTION:
URL:https://www.abccommunity.com/event/christmas-eve-communion-family-meal/
END:VEVENT
BEGIN:VEVENT
DTSTART;TZID=America/New_York:20261225T000000
DTEND;TZID=America/New_York:20261225T235959
DTSTAMP:20260424T044802
CREATED:20251005T195924Z
LAST-MODIFIED:20251005T195937Z
UID:10002494-1798156800-1798243199@www.abccommunity.com
SUMMARY:Office Closed
DESCRIPTION:
URL:https://www.abccommunity.com/event/office-closed/
END:VEVENT
BEGIN:VEVENT
DTSTART;TZID=America/New_York:20261230T180000
DTEND;TZID=America/New_York:20261230T180000
DTSTAMP:20260424T044802
CREATED:20251005T204030Z
LAST-MODIFIED:20260205T170603Z
UID:10002626-1798653600-1798653600@www.abccommunity.com
SUMMARY:Wednesday Night Services
DESCRIPTION:6:00pm-Supper\,  7:00pm-Adult studies\, Missions Journey: kids. 8:00-Choir
URL:https://www.abccommunity.com/event/wednesday-night-services-7/
END:VEVENT
END:VCALENDAR