BEGIN:VCALENDAR
VERSION:2.0
PRODID:-//Antioch Baptist Church - ECPv6.15.20//NONSGML v1.0//EN
CALSCALE:GREGORIAN
METHOD:PUBLISH
X-WR-CALNAME:Antioch Baptist Church
X-ORIGINAL-URL:https://www.abccommunity.com
X-WR-CALDESC:Events for Antioch Baptist Church
REFRESH-INTERVAL;VALUE=DURATION:PT1H
X-Robots-Tag:noindex
X-PUBLISHED-TTL:PT1H
BEGIN:VTIMEZONE
TZID:America/New_York
BEGIN:DAYLIGHT
TZOFFSETFROM:-0500
TZOFFSETTO:-0400
TZNAME:EDT
DTSTART:20250309T070000
END:DAYLIGHT
BEGIN:STANDARD
TZOFFSETFROM:-0400
TZOFFSETTO:-0500
TZNAME:EST
DTSTART:20251102T060000
END:STANDARD
BEGIN:DAYLIGHT
TZOFFSETFROM:-0500
TZOFFSETTO:-0400
TZNAME:EDT
DTSTART:20260308T070000
END:DAYLIGHT
BEGIN:STANDARD
TZOFFSETFROM:-0400
TZOFFSETTO:-0500
TZNAME:EST
DTSTART:20261101T060000
END:STANDARD
BEGIN:DAYLIGHT
TZOFFSETFROM:-0500
TZOFFSETTO:-0400
TZNAME:EDT
DTSTART:20270314T070000
END:DAYLIGHT
BEGIN:STANDARD
TZOFFSETFROM:-0400
TZOFFSETTO:-0500
TZNAME:EST
DTSTART:20271107T060000
END:STANDARD
END:VTIMEZONE
BEGIN:VEVENT
DTSTART;TZID=America/New_York:20260802T000000
DTEND;TZID=America/New_York:20260802T235959
DTSTAMP:20260423T232709
CREATED:20260205T160850Z
LAST-MODIFIED:20260205T160904Z
UID:10002879-1785628800-1785715199@www.abccommunity.com
SUMMARY:(FHR) Youth Takeover Sunday (FH Service)
DESCRIPTION:
URL:https://www.abccommunity.com/event/fhr-youth-takeover-sunday-fh-service/
END:VEVENT
BEGIN:VEVENT
DTSTART;TZID=America/New_York:20260802T120000
DTEND;TZID=America/New_York:20260802T120000
DTSTAMP:20260423T232709
CREATED:20251005T193112Z
LAST-MODIFIED:20260320T150348Z
UID:10002430-1785672000-1785672000@www.abccommunity.com
SUMMARY:Sunday Lunch
DESCRIPTION:Covered-dish lunch – all are welcome.
URL:https://www.abccommunity.com/event/sunday-lunch-20/
END:VEVENT
BEGIN:VEVENT
DTSTART;TZID=America/New_York:20260803T180000
DTEND;TZID=America/New_York:20260803T180000
DTSTAMP:20260423T232709
CREATED:20251005T175220Z
LAST-MODIFIED:20251031T162605Z
UID:10002765-1785780000-1785780000@www.abccommunity.com
SUMMARY:Church Council Meeting
DESCRIPTION:
URL:https://www.abccommunity.com/event/church-council-meeting-3/2026-08-03/
END:VEVENT
BEGIN:VEVENT
DTSTART;TZID=America/New_York:20260804T190000
DTEND;TZID=America/New_York:20260804T190000
DTSTAMP:20260423T232709
CREATED:20260202T193759Z
LAST-MODIFIED:20260202T193815Z
UID:10002865-1785870000-1785870000@www.abccommunity.com
SUMMARY:Cemetery Committee Meeting
DESCRIPTION:
URL:https://www.abccommunity.com/event/cemetery-committee-meeting-2/2026-08-04/
END:VEVENT
BEGIN:VEVENT
DTSTART;TZID=America/New_York:20260805T180000
DTEND;TZID=America/New_York:20260805T180000
DTSTAMP:20260423T232709
CREATED:20251005T202327Z
LAST-MODIFIED:20251005T202327Z
UID:10002601-1785952800-1785952800@www.abccommunity.com
SUMMARY:Wednesday Night Activities
DESCRIPTION:6:00pm-Adult studies\, Youth\, Mission Journey: kids\, 7:00-Choir
URL:https://www.abccommunity.com/event/wednesday-night-activities-7/2026-08-05/
END:VEVENT
BEGIN:VEVENT
DTSTART;TZID=America/New_York:20260806T000000
DTEND;TZID=America/New_York:20260808T235959
DTSTAMP:20260423T232709
CREATED:20251026T205536Z
LAST-MODIFIED:20251026T205543Z
UID:10002728-1785974400-1786233599@www.abccommunity.com
SUMMARY:(FHR) Event set-up
DESCRIPTION:
URL:https://www.abccommunity.com/event/fhr-event-set-up-6/
END:VEVENT
BEGIN:VEVENT
DTSTART;TZID=America/New_York:20260809T110000
DTEND;TZID=America/New_York:20260809T110000
DTSTAMP:20260423T232709
CREATED:20251005T181103Z
LAST-MODIFIED:20251021T145920Z
UID:10002399-1786273200-1786273200@www.abccommunity.com
SUMMARY:HOMECOMING - Guest Speaker:  Brandton Wood
DESCRIPTION:
URL:https://www.abccommunity.com/event/homecoming/
END:VEVENT
BEGIN:VEVENT
DTSTART;TZID=America/New_York:20260809T180000
DTEND;TZID=America/New_York:20260809T180000
DTSTAMP:20260423T232709
CREATED:20251005T175626Z
LAST-MODIFIED:20251005T175626Z
UID:10002344-1786298400-1786298400@www.abccommunity.com
SUMMARY:Business Meeting
DESCRIPTION:
URL:https://www.abccommunity.com/event/business-meeting/2026-08-09/
END:VEVENT
BEGIN:VEVENT
DTSTART;TZID=America/New_York:20260810T100000
DTEND;TZID=America/New_York:20260810T100000
DTSTAMP:20260423T232709
CREATED:20251026T194646Z
LAST-MODIFIED:20251026T194646Z
UID:10002698-1786356000-1786356000@www.abccommunity.com
SUMMARY:ECA (FH)
DESCRIPTION:
URL:https://www.abccommunity.com/event/eca-fh-3/2026-08-10/
END:VEVENT
BEGIN:VEVENT
DTSTART;TZID=America/New_York:20260811T180000
DTEND;TZID=America/New_York:20260811T180000
DTSTAMP:20260423T232709
CREATED:20251005T204705Z
LAST-MODIFIED:20251209T155542Z
UID:10002790-1786471200-1786471200@www.abccommunity.com
SUMMARY:Budget & Finance Committee Meeting
DESCRIPTION:
URL:https://www.abccommunity.com/event/budget-finance-committee-meeting/2026-08-11/
END:VEVENT
BEGIN:VEVENT
DTSTART;TZID=America/New_York:20260812T180000
DTEND;TZID=America/New_York:20260812T180000
DTSTAMP:20260423T232709
CREATED:20251005T202327Z
LAST-MODIFIED:20251005T202327Z
UID:10002602-1786557600-1786557600@www.abccommunity.com
SUMMARY:Wednesday Night Activities
DESCRIPTION:6:00pm-Adult studies\, Youth\, Mission Journey: kids\, 7:00-Choir
URL:https://www.abccommunity.com/event/wednesday-night-activities-7/2026-08-12/
END:VEVENT
BEGIN:VEVENT
DTSTART;TZID=America/New_York:20260813T190000
DTEND;TZID=America/New_York:20260813T190000
DTSTAMP:20260423T232709
CREATED:20251005T205301Z
LAST-MODIFIED:20251005T205301Z
UID:10002661-1786647600-1786647600@www.abccommunity.com
SUMMARY:Outreach Committee Meeting
DESCRIPTION:
URL:https://www.abccommunity.com/event/outreach-committee-meeting-3/2026-08-13/
END:VEVENT
BEGIN:VEVENT
DTSTART;TZID=America/New_York:20260816T160000
DTEND;TZID=America/New_York:20260816T173000
DTSTAMP:20260423T232709
CREATED:20260101T212354Z
LAST-MODIFIED:20260101T212354Z
UID:10002814-1786896000-1786901400@www.abccommunity.com
SUMMARY:Youth Band
DESCRIPTION:6th-12th grade
URL:https://www.abccommunity.com/event/youth-band-5/2026-08-16/
END:VEVENT
BEGIN:VEVENT
DTSTART;TZID=America/New_York:20260816T173000
DTEND;TZID=America/New_York:20260816T190000
DTSTAMP:20260423T232709
CREATED:20260101T212629Z
LAST-MODIFIED:20260101T212629Z
UID:10002817-1786901400-1786906800@www.abccommunity.com
SUMMARY:Youth Small Groups
DESCRIPTION:6th-12th grade
URL:https://www.abccommunity.com/event/youth-small-groups-5/2026-08-16/
END:VEVENT
BEGIN:VEVENT
DTSTART;TZID=America/New_York:20260817T090000
DTEND;TZID=America/New_York:20260817T090000
DTSTAMP:20260423T232709
CREATED:20251026T214618Z
LAST-MODIFIED:20251026T214618Z
UID:10002729-1786957200-1786957200@www.abccommunity.com
SUMMARY:September newsletter articles are due.
DESCRIPTION:
URL:https://www.abccommunity.com/event/september-newsletter-articles-are-due/
END:VEVENT
BEGIN:VEVENT
DTSTART;TZID=America/New_York:20260817T190000
DTEND;TZID=America/New_York:20260817T190000
DTSTAMP:20260423T232709
CREATED:20251005T205019Z
LAST-MODIFIED:20251005T205019Z
UID:10002649-1786993200-1786993200@www.abccommunity.com
SUMMARY:Deacons' Meeting
DESCRIPTION:
URL:https://www.abccommunity.com/event/deacons-meeting-3/2026-08-17/
END:VEVENT
BEGIN:VEVENT
DTSTART;TZID=America/New_York:20260819T180000
DTEND;TZID=America/New_York:20260819T180000
DTSTAMP:20260423T232709
CREATED:20251005T202327Z
LAST-MODIFIED:20251005T202327Z
UID:10002603-1787162400-1787162400@www.abccommunity.com
SUMMARY:Wednesday Night Activities
DESCRIPTION:6:00pm-Adult studies\, Youth\, Mission Journey: kids\, 7:00-Choir
URL:https://www.abccommunity.com/event/wednesday-night-activities-7/2026-08-19/
END:VEVENT
BEGIN:VEVENT
DTSTART;TZID=America/New_York:20260822T000000
DTEND;TZID=America/New_York:20260822T235959
DTSTAMP:20260423T232709
CREATED:20260205T160704Z
LAST-MODIFIED:20260205T160704Z
UID:10002878-1787356800-1787443199@www.abccommunity.com
SUMMARY:(FHR) Back to School Bash
DESCRIPTION:
URL:https://www.abccommunity.com/event/fhr-back-to-school-bash/
END:VEVENT
BEGIN:VEVENT
DTSTART;TZID=America/New_York:20260823T120000
DTEND;TZID=America/New_York:20260823T120000
DTSTAMP:20260423T232709
CREATED:20251026T214734Z
LAST-MODIFIED:20251026T214734Z
UID:10002730-1787486400-1787486400@www.abccommunity.com
SUMMARY:Special Called Business Meeting
DESCRIPTION:
URL:https://www.abccommunity.com/event/special-called-business-meeting-2/
END:VEVENT
BEGIN:VEVENT
DTSTART;TZID=America/New_York:20260823T160000
DTEND;TZID=America/New_York:20260823T173000
DTSTAMP:20260423T232709
CREATED:20260101T212354Z
LAST-MODIFIED:20260101T212354Z
UID:10002815-1787500800-1787506200@www.abccommunity.com
SUMMARY:Youth Band
DESCRIPTION:6th-12th grade
URL:https://www.abccommunity.com/event/youth-band-5/2026-08-23/
END:VEVENT
BEGIN:VEVENT
DTSTART;TZID=America/New_York:20260823T173000
DTEND;TZID=America/New_York:20260823T190000
DTSTAMP:20260423T232709
CREATED:20260101T212629Z
LAST-MODIFIED:20260101T212629Z
UID:10002818-1787506200-1787511600@www.abccommunity.com
SUMMARY:Youth Small Groups
DESCRIPTION:6th-12th grade
URL:https://www.abccommunity.com/event/youth-small-groups-5/2026-08-23/
END:VEVENT
BEGIN:VEVENT
DTSTART;TZID=America/New_York:20260826T180000
DTEND;TZID=America/New_York:20260826T180000
DTSTAMP:20260423T232709
CREATED:20251005T202327Z
LAST-MODIFIED:20251005T202327Z
UID:10002604-1787767200-1787767200@www.abccommunity.com
SUMMARY:Wednesday Night Activities
DESCRIPTION:6:00pm-Adult studies\, Youth\, Mission Journey: kids\, 7:00-Choir
URL:https://www.abccommunity.com/event/wednesday-night-activities-7/2026-08-26/
END:VEVENT
BEGIN:VEVENT
DTSTART;TZID=America/New_York:20260827T160000
DTEND;TZID=America/New_York:20260827T160000
DTSTAMP:20260423T232709
CREATED:20251026T193035Z
LAST-MODIFIED:20251026T193035Z
UID:10002685-1787846400-1787846400@www.abccommunity.com
SUMMARY:Ronald McDonald House Meal
DESCRIPTION:
URL:https://www.abccommunity.com/event/ronald-mcdonald-house-meal-2/2026-08-27/
END:VEVENT
BEGIN:VEVENT
DTSTART;TZID=America/New_York:20260830T160000
DTEND;TZID=America/New_York:20260830T173000
DTSTAMP:20260423T232709
CREATED:20260101T212354Z
LAST-MODIFIED:20260101T212354Z
UID:10002816-1788105600-1788111000@www.abccommunity.com
SUMMARY:Youth Band
DESCRIPTION:6th-12th grade
URL:https://www.abccommunity.com/event/youth-band-5/2026-08-30/
END:VEVENT
BEGIN:VEVENT
DTSTART;TZID=America/New_York:20260830T173000
DTEND;TZID=America/New_York:20260830T190000
DTSTAMP:20260423T232709
CREATED:20260101T212629Z
LAST-MODIFIED:20260101T212629Z
UID:10002819-1788111000-1788116400@www.abccommunity.com
SUMMARY:Youth Small Groups
DESCRIPTION:6th-12th grade
URL:https://www.abccommunity.com/event/youth-small-groups-5/2026-08-30/
END:VEVENT
END:VCALENDAR