BEGIN:VCALENDAR
VERSION:2.0
PRODID:-//Antioch Baptist Church - ECPv6.15.20//NONSGML v1.0//EN
CALSCALE:GREGORIAN
METHOD:PUBLISH
X-ORIGINAL-URL:https://www.abccommunity.com
X-WR-CALDESC:Events for Antioch Baptist Church
REFRESH-INTERVAL;VALUE=DURATION:PT1H
X-Robots-Tag:noindex
X-PUBLISHED-TTL:PT1H
BEGIN:VTIMEZONE
TZID:America/New_York
BEGIN:DAYLIGHT
TZOFFSETFROM:-0500
TZOFFSETTO:-0400
TZNAME:EDT
DTSTART:20250309T070000
END:DAYLIGHT
BEGIN:STANDARD
TZOFFSETFROM:-0400
TZOFFSETTO:-0500
TZNAME:EST
DTSTART:20251102T060000
END:STANDARD
BEGIN:DAYLIGHT
TZOFFSETFROM:-0500
TZOFFSETTO:-0400
TZNAME:EDT
DTSTART:20260308T070000
END:DAYLIGHT
BEGIN:STANDARD
TZOFFSETFROM:-0400
TZOFFSETTO:-0500
TZNAME:EST
DTSTART:20261101T060000
END:STANDARD
BEGIN:DAYLIGHT
TZOFFSETFROM:-0500
TZOFFSETTO:-0400
TZNAME:EDT
DTSTART:20270314T070000
END:DAYLIGHT
BEGIN:STANDARD
TZOFFSETFROM:-0400
TZOFFSETTO:-0500
TZNAME:EST
DTSTART:20271107T060000
END:STANDARD
END:VTIMEZONE
BEGIN:VEVENT
DTSTART;TZID=America/New_York:20260701T180000
DTEND;TZID=America/New_York:20260701T180000
DTSTAMP:20260423T221340
CREATED:20251005T202327Z
LAST-MODIFIED:20251005T202327Z
UID:10002596-1782928800-1782928800@www.abccommunity.com
SUMMARY:Wednesday Night Activities
DESCRIPTION:6:00pm-Adult studies\, Youth\, Mission Journey: kids\, 7:00-Choir
URL:https://www.abccommunity.com/event/wednesday-night-activities-7/2026-07-01/
END:VEVENT
BEGIN:VEVENT
DTSTART;TZID=America/New_York:20260704T180000
DTEND;TZID=America/New_York:20260704T180000
DTSTAMP:20260423T221340
CREATED:20251026T203154Z
LAST-MODIFIED:20260101T215514Z
UID:10002721-1783188000-1783188000@www.abccommunity.com
SUMMARY:Family Fun Night
DESCRIPTION:
URL:https://www.abccommunity.com/event/family-friday-fun-night-7/
END:VEVENT
BEGIN:VEVENT
DTSTART;TZID=America/New_York:20260705T110000
DTEND;TZID=America/New_York:20260705T110000
DTSTAMP:20260423T221340
CREATED:20251026T202941Z
LAST-MODIFIED:20251026T202941Z
UID:10002719-1783249200-1783249200@www.abccommunity.com
SUMMARY:The Lord's Supper
DESCRIPTION:
URL:https://www.abccommunity.com/event/the-lords-supper-2/
END:VEVENT
BEGIN:VEVENT
DTSTART;TZID=America/New_York:20260705T120000
DTEND;TZID=America/New_York:20260705T120000
DTSTAMP:20260423T221340
CREATED:20260218T162142Z
LAST-MODIFIED:20260320T150429Z
UID:10002889-1783252800-1783252800@www.abccommunity.com
SUMMARY:Sunday Lunch
DESCRIPTION:Covered-dish lunch after worship service.  Open to all.
URL:https://www.abccommunity.com/event/fellowship-lunch-4/
END:VEVENT
BEGIN:VEVENT
DTSTART;TZID=America/New_York:20260705T160000
DTEND;TZID=America/New_York:20260705T173000
DTSTAMP:20260423T221340
CREATED:20260101T211801Z
LAST-MODIFIED:20260101T211801Z
UID:10002812-1783267200-1783272600@www.abccommunity.com
SUMMARY:Youth Band
DESCRIPTION:6th-12th grade
URL:https://www.abccommunity.com/event/youth-band-4/
END:VEVENT
BEGIN:VEVENT
DTSTART;TZID=America/New_York:20260705T173000
DTEND;TZID=America/New_York:20260705T190000
DTSTAMP:20260423T221340
CREATED:20260101T211945Z
LAST-MODIFIED:20260101T211953Z
UID:10002813-1783272600-1783278000@www.abccommunity.com
SUMMARY:Youth Small Groups
DESCRIPTION:6th-12th grade
URL:https://www.abccommunity.com/event/youth-small-groups-4/
END:VEVENT
BEGIN:VEVENT
DTSTART;TZID=America/New_York:20260706T180000
DTEND;TZID=America/New_York:20260706T180000
DTSTAMP:20260423T221340
CREATED:20260408T183341Z
LAST-MODIFIED:20260408T183341Z
UID:10002922-1783360800-1783360800@www.abccommunity.com
SUMMARY:Church Council Meeting
DESCRIPTION:
URL:https://www.abccommunity.com/event/church-council-meeting-6/
END:VEVENT
BEGIN:VEVENT
DTSTART;TZID=America/New_York:20260708T180000
DTEND;TZID=America/New_York:20260708T180000
DTSTAMP:20260423T221340
CREATED:20251005T202327Z
LAST-MODIFIED:20251005T202327Z
UID:10002597-1783533600-1783533600@www.abccommunity.com
SUMMARY:Wednesday Night Activities
DESCRIPTION:6:00pm-Adult studies\, Youth\, Mission Journey: kids\, 7:00-Choir
URL:https://www.abccommunity.com/event/wednesday-night-activities-7/2026-07-08/
END:VEVENT
BEGIN:VEVENT
DTSTART;TZID=America/New_York:20260709T190000
DTEND;TZID=America/New_York:20260709T190000
DTSTAMP:20260423T221340
CREATED:20251005T205301Z
LAST-MODIFIED:20251005T205301Z
UID:10002660-1783623600-1783623600@www.abccommunity.com
SUMMARY:Outreach Committee Meeting
DESCRIPTION:
URL:https://www.abccommunity.com/event/outreach-committee-meeting-3/2026-07-09/
END:VEVENT
BEGIN:VEVENT
DTSTART;TZID=America/New_York:20260711T000000
DTEND;TZID=America/New_York:20260718T235959
DTSTAMP:20260423T221340
CREATED:20260205T155605Z
LAST-MODIFIED:20260205T155610Z
UID:10002876-1783728000-1784419199@www.abccommunity.com
SUMMARY:Youth Jr/Sr Mission Trip
DESCRIPTION:
URL:https://www.abccommunity.com/event/youth-jr-sr-mission-trip/
END:VEVENT
BEGIN:VEVENT
DTSTART;TZID=America/New_York:20260713T100000
DTEND;TZID=America/New_York:20260713T100000
DTSTAMP:20260423T221340
CREATED:20251026T194646Z
LAST-MODIFIED:20251026T194646Z
UID:10002697-1783936800-1783936800@www.abccommunity.com
SUMMARY:ECA (FH)
DESCRIPTION:
URL:https://www.abccommunity.com/event/eca-fh-3/2026-07-13/
END:VEVENT
BEGIN:VEVENT
DTSTART;TZID=America/New_York:20260714T180000
DTEND;TZID=America/New_York:20260714T180000
DTSTAMP:20260423T221340
CREATED:20251005T204705Z
LAST-MODIFIED:20251209T155542Z
UID:10002789-1784052000-1784052000@www.abccommunity.com
SUMMARY:Budget & Finance Committee Meeting
DESCRIPTION:
URL:https://www.abccommunity.com/event/budget-finance-committee-meeting/2026-07-14/
END:VEVENT
BEGIN:VEVENT
DTSTART;TZID=America/New_York:20260715T180000
DTEND;TZID=America/New_York:20260715T180000
DTSTAMP:20260423T221340
CREATED:20251005T202327Z
LAST-MODIFIED:20251005T202327Z
UID:10002598-1784138400-1784138400@www.abccommunity.com
SUMMARY:Wednesday Night Activities
DESCRIPTION:6:00pm-Adult studies\, Youth\, Mission Journey: kids\, 7:00-Choir
URL:https://www.abccommunity.com/event/wednesday-night-activities-7/2026-07-15/
END:VEVENT
BEGIN:VEVENT
DTSTART;TZID=America/New_York:20260717T090000
DTEND;TZID=America/New_York:20260717T090000
DTSTAMP:20260423T221340
CREATED:20251026T203106Z
LAST-MODIFIED:20251026T203106Z
UID:10002720-1784278800-1784278800@www.abccommunity.com
SUMMARY:August newsletter articles are due\,
DESCRIPTION:
URL:https://www.abccommunity.com/event/august-newsletter-articles-are-due/
END:VEVENT
BEGIN:VEVENT
DTSTART;TZID=America/New_York:20260720T190000
DTEND;TZID=America/New_York:20260720T190000
DTSTAMP:20260423T221340
CREATED:20251005T205019Z
LAST-MODIFIED:20251005T205019Z
UID:10002648-1784574000-1784574000@www.abccommunity.com
SUMMARY:Deacons' Meeting
DESCRIPTION:
URL:https://www.abccommunity.com/event/deacons-meeting-3/2026-07-20/
END:VEVENT
BEGIN:VEVENT
DTSTART;TZID=America/New_York:20260721T190000
DTEND;TZID=America/New_York:20260721T190000
DTSTAMP:20260423T221340
CREATED:20251027T234834Z
LAST-MODIFIED:20260106T004938Z
UID:10002827-1784660400-1784660400@www.abccommunity.com
SUMMARY:Safety & Security Comm. Mtg.
DESCRIPTION:
URL:https://www.abccommunity.com/event/safety-security-comm-mtg-2/2026-07-21/
END:VEVENT
BEGIN:VEVENT
DTSTART;TZID=America/New_York:20260722T180000
DTEND;TZID=America/New_York:20260722T180000
DTSTAMP:20260423T221340
CREATED:20251005T202327Z
LAST-MODIFIED:20251005T202327Z
UID:10002599-1784743200-1784743200@www.abccommunity.com
SUMMARY:Wednesday Night Activities
DESCRIPTION:6:00pm-Adult studies\, Youth\, Mission Journey: kids\, 7:00-Choir
URL:https://www.abccommunity.com/event/wednesday-night-activities-7/2026-07-22/
END:VEVENT
BEGIN:VEVENT
DTSTART;TZID=America/New_York:20260723T160000
DTEND;TZID=America/New_York:20260723T160000
DTSTAMP:20260423T221340
CREATED:20251026T193035Z
LAST-MODIFIED:20251026T193035Z
UID:10002684-1784822400-1784822400@www.abccommunity.com
SUMMARY:Ronald McDonald House Meal
DESCRIPTION:
URL:https://www.abccommunity.com/event/ronald-mcdonald-house-meal-2/2026-07-23/
END:VEVENT
BEGIN:VEVENT
DTSTART;TZID=America/New_York:20260724T000000
DTEND;TZID=America/New_York:20260726T235959
DTSTAMP:20260423T221340
CREATED:20260205T155702Z
LAST-MODIFIED:20260205T155707Z
UID:10002877-1784851200-1785110399@www.abccommunity.com
SUMMARY:Kids Sports Weekend
DESCRIPTION:
URL:https://www.abccommunity.com/event/kids-sports-weekend/
END:VEVENT
BEGIN:VEVENT
DTSTART;TZID=America/New_York:20260729T180000
DTEND;TZID=America/New_York:20260729T180000
DTSTAMP:20260423T221340
CREATED:20251005T202327Z
LAST-MODIFIED:20251005T202327Z
UID:10002600-1785348000-1785348000@www.abccommunity.com
SUMMARY:Wednesday Night Activities
DESCRIPTION:6:00pm-Adult studies\, Youth\, Mission Journey: kids\, 7:00-Choir
URL:https://www.abccommunity.com/event/wednesday-night-activities-7/2026-07-29/
END:VEVENT
END:VCALENDAR