BEGIN:VCALENDAR
VERSION:2.0
PRODID:-//Antioch Baptist Church - ECPv6.15.20//NONSGML v1.0//EN
CALSCALE:GREGORIAN
METHOD:PUBLISH
X-WR-CALNAME:Antioch Baptist Church
X-ORIGINAL-URL:https://www.abccommunity.com
X-WR-CALDESC:Events for Antioch Baptist Church
REFRESH-INTERVAL;VALUE=DURATION:PT1H
X-Robots-Tag:noindex
X-PUBLISHED-TTL:PT1H
BEGIN:VTIMEZONE
TZID:America/New_York
BEGIN:DAYLIGHT
TZOFFSETFROM:-0500
TZOFFSETTO:-0400
TZNAME:EDT
DTSTART:20250309T070000
END:DAYLIGHT
BEGIN:STANDARD
TZOFFSETFROM:-0400
TZOFFSETTO:-0500
TZNAME:EST
DTSTART:20251102T060000
END:STANDARD
BEGIN:DAYLIGHT
TZOFFSETFROM:-0500
TZOFFSETTO:-0400
TZNAME:EDT
DTSTART:20260308T070000
END:DAYLIGHT
BEGIN:STANDARD
TZOFFSETFROM:-0400
TZOFFSETTO:-0500
TZNAME:EST
DTSTART:20261101T060000
END:STANDARD
BEGIN:DAYLIGHT
TZOFFSETFROM:-0500
TZOFFSETTO:-0400
TZNAME:EDT
DTSTART:20270314T070000
END:DAYLIGHT
BEGIN:STANDARD
TZOFFSETFROM:-0400
TZOFFSETTO:-0500
TZNAME:EST
DTSTART:20271107T060000
END:STANDARD
END:VTIMEZONE
BEGIN:VEVENT
DTSTART;TZID=America/New_York:20260502T090000
DTEND;TZID=America/New_York:20260502T100000
DTSTAMP:20260423T184650
CREATED:20260318T134439Z
LAST-MODIFIED:20260318T134444Z
UID:10002916-1777712400-1777716000@www.abccommunity.com
SUMMARY:Deacon Training
DESCRIPTION:Senior Adult SS Classroom
URL:https://www.abccommunity.com/event/deacon-training-2/
END:VEVENT
BEGIN:VEVENT
DTSTART;TZID=America/New_York:20260502T100000
DTEND;TZID=America/New_York:20260502T150000
DTSTAMP:20260423T184650
CREATED:20260313T164328Z
LAST-MODIFIED:20260313T164333Z
UID:10002913-1777716000-1777734000@www.abccommunity.com
SUMMARY:(FHR) Outreach
DESCRIPTION:friendship meal
URL:https://www.abccommunity.com/event/fhr-outreach-5/
END:VEVENT
BEGIN:VEVENT
DTSTART;TZID=America/New_York:20260503T130000
DTEND;TZID=America/New_York:20260503T130000
DTSTAMP:20260423T184650
CREATED:20260205T153543Z
LAST-MODIFIED:20260320T150030Z
UID:10002872-1777813200-1777813200@www.abccommunity.com
SUMMARY:(Youth Rm.) YOUTH training & Grad. Rehearsal
DESCRIPTION:
URL:https://www.abccommunity.com/event/fhr-youth-training-grad-rehearsal/
END:VEVENT
BEGIN:VEVENT
DTSTART;TZID=America/New_York:20260503T130000
DTEND;TZID=America/New_York:20260503T200000
DTSTAMP:20260423T184650
CREATED:20260320T145926Z
LAST-MODIFIED:20260320T145932Z
UID:10002917-1777813200-1777838400@www.abccommunity.com
SUMMARY:(FHR) Private Event
DESCRIPTION:
URL:https://www.abccommunity.com/event/fhr-private-event-8/
END:VEVENT
BEGIN:VEVENT
DTSTART;TZID=America/New_York:20260504T180000
DTEND;TZID=America/New_York:20260504T180000
DTSTAMP:20260423T184650
CREATED:20251005T175220Z
LAST-MODIFIED:20251031T162605Z
UID:10002762-1777917600-1777917600@www.abccommunity.com
SUMMARY:Church Council Meeting
DESCRIPTION:
URL:https://www.abccommunity.com/event/church-council-meeting-3/2026-05-04/
END:VEVENT
BEGIN:VEVENT
DTSTART;TZID=America/New_York:20260506T180000
DTEND;TZID=America/New_York:20260506T180000
DTSTAMP:20260423T184650
CREATED:20251005T201237Z
LAST-MODIFIED:20251005T201237Z
UID:10002523-1778090400-1778090400@www.abccommunity.com
SUMMARY:Wednesday Night Activities
DESCRIPTION:6:00pm-Supper\, 6:45pm-Youth\, 7:00pm-Missions Journey: Kids & Adult Studies\, 8:00pm-Choir
URL:https://www.abccommunity.com/event/wednesday-night-activities-6/2026-05-06/
END:VEVENT
BEGIN:VEVENT
DTSTART;TZID=America/New_York:20260509T000000
DTEND;TZID=America/New_York:20260509T235959
DTSTAMP:20260423T184650
CREATED:20260205T152944Z
LAST-MODIFIED:20260205T153041Z
UID:10002871-1778284800-1778371199@www.abccommunity.com
SUMMARY:Youth "Cruise-In " Fundraiser (Efland)
DESCRIPTION:
URL:https://www.abccommunity.com/event/youth-cruise-in-fundraiser-efland/
END:VEVENT
BEGIN:VEVENT
DTSTART;TZID=America/New_York:20260510T110000
DTEND;TZID=America/New_York:20260510T230000
DTSTAMP:20260423T184650
CREATED:20251026T201134Z
LAST-MODIFIED:20251026T201134Z
UID:10002710-1778410800-1778454000@www.abccommunity.com
SUMMARY:Mother's Day (Children Dedication Day)
DESCRIPTION:Grades 6th -12th
URL:https://www.abccommunity.com/event/mothers-day-children-dedication-day/
END:VEVENT
BEGIN:VEVENT
DTSTART;TZID=America/New_York:20260511T100000
DTEND;TZID=America/New_York:20260511T100000
DTSTAMP:20260423T184650
CREATED:20251026T194646Z
LAST-MODIFIED:20251026T194646Z
UID:10002695-1778493600-1778493600@www.abccommunity.com
SUMMARY:ECA (FH)
DESCRIPTION:
URL:https://www.abccommunity.com/event/eca-fh-3/2026-05-11/
END:VEVENT
BEGIN:VEVENT
DTSTART;TZID=America/New_York:20260511T183000
DTEND;TZID=America/New_York:20260511T183000
DTSTAMP:20260423T184650
CREATED:20251005T200549Z
LAST-MODIFIED:20251005T200549Z
UID:10002500-1778524200-1778524200@www.abccommunity.com
SUMMARY:Men's Club Meeting
DESCRIPTION:All young and “seasoned” men of Antioch.
URL:https://www.abccommunity.com/event/mens-club-meeting-7/2026-05-11/
END:VEVENT
BEGIN:VEVENT
DTSTART;TZID=America/New_York:20260512T180000
DTEND;TZID=America/New_York:20260512T180000
DTSTAMP:20260423T184650
CREATED:20251005T204705Z
LAST-MODIFIED:20251209T155542Z
UID:10002787-1778608800-1778608800@www.abccommunity.com
SUMMARY:Budget & Finance Committee Meeting
DESCRIPTION:
URL:https://www.abccommunity.com/event/budget-finance-committee-meeting/2026-05-12/
END:VEVENT
BEGIN:VEVENT
DTSTART;TZID=America/New_York:20260513T180000
DTEND;TZID=America/New_York:20260513T180000
DTSTAMP:20260423T184650
CREATED:20251005T201237Z
LAST-MODIFIED:20251005T201237Z
UID:10002524-1778695200-1778695200@www.abccommunity.com
SUMMARY:Wednesday Night Activities
DESCRIPTION:6:00pm-Supper\, 6:45pm-Youth\, 7:00pm-Missions Journey: Kids & Adult Studies\, 8:00pm-Choir
URL:https://www.abccommunity.com/event/wednesday-night-activities-6/2026-05-13/
END:VEVENT
BEGIN:VEVENT
DTSTART;TZID=America/New_York:20260514T000000
DTEND;TZID=America/New_York:20260515T235959
DTSTAMP:20260423T184650
CREATED:20251026T201251Z
LAST-MODIFIED:20251026T201251Z
UID:10002711-1778716800-1778889599@www.abccommunity.com
SUMMARY:(FHR) Event set-up
DESCRIPTION:
URL:https://www.abccommunity.com/event/fhr-event-set-up-2/
END:VEVENT
BEGIN:VEVENT
DTSTART;TZID=America/New_York:20260514T190000
DTEND;TZID=America/New_York:20260514T190000
DTSTAMP:20260423T184650
CREATED:20251005T205301Z
LAST-MODIFIED:20251005T205301Z
UID:10002658-1778785200-1778785200@www.abccommunity.com
SUMMARY:Outreach Committee Meeting
DESCRIPTION:
URL:https://www.abccommunity.com/event/outreach-committee-meeting-3/2026-05-14/
END:VEVENT
BEGIN:VEVENT
DTSTART;TZID=America/New_York:20260516T070000
DTEND;TZID=America/New_York:20260516T100000
DTSTAMP:20260423T184650
CREATED:20251026T201406Z
LAST-MODIFIED:20260403T180825Z
UID:10002712-1778914800-1778925600@www.abccommunity.com
SUMMARY:Antioch Country Breakfast
DESCRIPTION:
URL:https://www.abccommunity.com/event/antioch-country-breakfast-2/
END:VEVENT
BEGIN:VEVENT
DTSTART;TZID=America/New_York:20260517T130000
DTEND;TZID=America/New_York:20260517T130000
DTSTAMP:20260423T184650
CREATED:20260114T184136Z
LAST-MODIFIED:20260114T184140Z
UID:10002858-1779022800-1779022800@www.abccommunity.com
SUMMARY:(FHR) PRIVATE EVENT
DESCRIPTION:
URL:https://www.abccommunity.com/event/fhr-private-event-7/
END:VEVENT
BEGIN:VEVENT
DTSTART;TZID=America/New_York:20260517T160000
DTEND;TZID=America/New_York:20260517T173000
DTSTAMP:20260423T184650
CREATED:20260101T205007Z
LAST-MODIFIED:20260101T205007Z
UID:10002802-1779033600-1779039000@www.abccommunity.com
SUMMARY:Youth Band
DESCRIPTION:6th-12th grade
URL:https://www.abccommunity.com/event/youth-band/2026-05-17/
END:VEVENT
BEGIN:VEVENT
DTSTART;TZID=America/New_York:20260517T173000
DTEND;TZID=America/New_York:20260517T190000
DTSTAMP:20260423T184650
CREATED:20260101T205214Z
LAST-MODIFIED:20260101T205214Z
UID:10002804-1779039000-1779044400@www.abccommunity.com
SUMMARY:Youth Small Groups
DESCRIPTION:
URL:https://www.abccommunity.com/event/youth-small-groups/2026-05-17/
END:VEVENT
BEGIN:VEVENT
DTSTART;TZID=America/New_York:20260518T090000
DTEND;TZID=America/New_York:20260518T090000
DTSTAMP:20260423T184650
CREATED:20251026T201956Z
LAST-MODIFIED:20251026T202010Z
UID:10002715-1779094800-1779094800@www.abccommunity.com
SUMMARY:June newsletter articles are due.
DESCRIPTION:
URL:https://www.abccommunity.com/event/june-newsletter-articles-are-due-2/
END:VEVENT
BEGIN:VEVENT
DTSTART;TZID=America/New_York:20260518T190000
DTEND;TZID=America/New_York:20260518T190000
DTSTAMP:20260423T184650
CREATED:20251005T205019Z
LAST-MODIFIED:20251005T205019Z
UID:10002646-1779130800-1779130800@www.abccommunity.com
SUMMARY:Deacons' Meeting
DESCRIPTION:
URL:https://www.abccommunity.com/event/deacons-meeting-3/2026-05-18/
END:VEVENT
BEGIN:VEVENT
DTSTART;TZID=America/New_York:20260519T190000
DTEND;TZID=America/New_York:20260519T190000
DTSTAMP:20260423T184650
CREATED:20251027T234834Z
LAST-MODIFIED:20260106T004938Z
UID:10002826-1779217200-1779217200@www.abccommunity.com
SUMMARY:Safety & Security Comm. Mtg.
DESCRIPTION:
URL:https://www.abccommunity.com/event/safety-security-comm-mtg-2/2026-05-19/
END:VEVENT
BEGIN:VEVENT
DTSTART;TZID=America/New_York:20260520T180000
DTEND;TZID=America/New_York:20260520T180000
DTSTAMP:20260423T184650
CREATED:20251005T201237Z
LAST-MODIFIED:20251005T201237Z
UID:10002525-1779300000-1779300000@www.abccommunity.com
SUMMARY:Wednesday Night Activities
DESCRIPTION:6:00pm-Supper\, 6:45pm-Youth\, 7:00pm-Missions Journey: Kids & Adult Studies\, 8:00pm-Choir
URL:https://www.abccommunity.com/event/wednesday-night-activities-6/2026-05-20/
END:VEVENT
BEGIN:VEVENT
DTSTART;TZID=America/New_York:20260522T000000
DTEND;TZID=America/New_York:20260523T235959
DTSTAMP:20260423T184650
CREATED:20251201T184238Z
LAST-MODIFIED:20251201T184238Z
UID:10002780-1779408000-1779580799@www.abccommunity.com
SUMMARY:(FHR)
DESCRIPTION:Private Event
URL:https://www.abccommunity.com/event/fhr-2/
END:VEVENT
BEGIN:VEVENT
DTSTART;TZID=America/New_York:20260524T000000
DTEND;TZID=America/New_York:20260524T235959
DTSTAMP:20260423T184650
CREATED:20260205T153630Z
LAST-MODIFIED:20260205T154057Z
UID:10002873-1779580800-1779667199@www.abccommunity.com
SUMMARY:(FHR) YOUTH Graduation Sunday
DESCRIPTION:
URL:https://www.abccommunity.com/event/fhr-youth/
END:VEVENT
BEGIN:VEVENT
DTSTART;TZID=America/New_York:20260525T000000
DTEND;TZID=America/New_York:20260525T235959
DTSTAMP:20260423T184650
CREATED:20251026T201451Z
LAST-MODIFIED:20251026T201451Z
UID:10002713-1779667200-1779753599@www.abccommunity.com
SUMMARY:Church Office Closed
DESCRIPTION:
URL:https://www.abccommunity.com/event/church-office-closed-3/
END:VEVENT
BEGIN:VEVENT
DTSTART;TZID=America/New_York:20260527T180000
DTEND;TZID=America/New_York:20260527T180000
DTSTAMP:20260423T184650
CREATED:20251005T201237Z
LAST-MODIFIED:20251005T201237Z
UID:10002526-1779904800-1779904800@www.abccommunity.com
SUMMARY:Wednesday Night Activities
DESCRIPTION:6:00pm-Supper\, 6:45pm-Youth\, 7:00pm-Missions Journey: Kids & Adult Studies\, 8:00pm-Choir
URL:https://www.abccommunity.com/event/wednesday-night-activities-6/2026-05-27/
END:VEVENT
BEGIN:VEVENT
DTSTART;TZID=America/New_York:20260528T160000
DTEND;TZID=America/New_York:20260528T160000
DTSTAMP:20260423T184650
CREATED:20251026T193035Z
LAST-MODIFIED:20251026T193035Z
UID:10002682-1779984000-1779984000@www.abccommunity.com
SUMMARY:Ronald McDonald House Meal
DESCRIPTION:
URL:https://www.abccommunity.com/event/ronald-mcdonald-house-meal-2/2026-05-28/
END:VEVENT
BEGIN:VEVENT
DTSTART;TZID=America/New_York:20260529T150000
DTEND;TZID=America/New_York:20260529T150000
DTSTAMP:20260423T184650
CREATED:20260312T161011Z
LAST-MODIFIED:20260312T161019Z
UID:10002911-1780066800-1780066800@www.abccommunity.com
SUMMARY:D.O.C. Birthday Party / Hillsborough
DESCRIPTION:
URL:https://www.abccommunity.com/event/d-o-c-birthday-party-hillsborough/
END:VEVENT
BEGIN:VEVENT
DTSTART;TZID=America/New_York:20260531T110000
DTEND;TZID=America/New_York:20260531T110000
DTSTAMP:20260423T184650
CREATED:20260410T150856Z
LAST-MODIFIED:20260410T150902Z
UID:10002926-1780225200-1780225200@www.abccommunity.com
SUMMARY:Christian Service:  Spiritual Gifts Sunday
DESCRIPTION:All surveys are due.
URL:https://www.abccommunity.com/event/christian-service-spiritual-gifts-sunday/
END:VEVENT
BEGIN:VEVENT
DTSTART;TZID=America/New_York:20260531T160000
DTEND;TZID=America/New_York:20260531T173000
DTSTAMP:20260423T184650
CREATED:20260205T154539Z
LAST-MODIFIED:20260205T154539Z
UID:10002874-1780243200-1780248600@www.abccommunity.com
SUMMARY:Youth Band
DESCRIPTION:
URL:https://www.abccommunity.com/event/youth-band-7/
END:VEVENT
END:VCALENDAR