BEGIN:VCALENDAR
VERSION:2.0
PRODID:-//Antioch Baptist Church - ECPv6.15.20//NONSGML v1.0//EN
CALSCALE:GREGORIAN
METHOD:PUBLISH
X-WR-CALNAME:Antioch Baptist Church
X-ORIGINAL-URL:https://www.abccommunity.com
X-WR-CALDESC:Events for Antioch Baptist Church
REFRESH-INTERVAL;VALUE=DURATION:PT1H
X-Robots-Tag:noindex
X-PUBLISHED-TTL:PT1H
BEGIN:VTIMEZONE
TZID:America/New_York
BEGIN:DAYLIGHT
TZOFFSETFROM:-0500
TZOFFSETTO:-0400
TZNAME:EDT
DTSTART:20250309T070000
END:DAYLIGHT
BEGIN:STANDARD
TZOFFSETFROM:-0400
TZOFFSETTO:-0500
TZNAME:EST
DTSTART:20251102T060000
END:STANDARD
BEGIN:DAYLIGHT
TZOFFSETFROM:-0500
TZOFFSETTO:-0400
TZNAME:EDT
DTSTART:20260308T070000
END:DAYLIGHT
BEGIN:STANDARD
TZOFFSETFROM:-0400
TZOFFSETTO:-0500
TZNAME:EST
DTSTART:20261101T060000
END:STANDARD
BEGIN:DAYLIGHT
TZOFFSETFROM:-0500
TZOFFSETTO:-0400
TZNAME:EDT
DTSTART:20270314T070000
END:DAYLIGHT
BEGIN:STANDARD
TZOFFSETFROM:-0400
TZOFFSETTO:-0500
TZNAME:EST
DTSTART:20271107T060000
END:STANDARD
END:VTIMEZONE
BEGIN:VEVENT
DTSTART;TZID=America/New_York:20260301T120000
DTEND;TZID=America/New_York:20260301T120000
DTSTAMP:20260423T183058
CREATED:20260218T161154Z
LAST-MODIFIED:20260320T150700Z
UID:10002408-1772366400-1772366400@www.abccommunity.com
SUMMARY:Sunday Lunch
DESCRIPTION:Covered-dish lunch – all are welcome.
URL:https://www.abccommunity.com/event/sunday-lunch-12-2/
END:VEVENT
BEGIN:VEVENT
DTSTART;TZID=America/New_York:20260301T160000
DTEND;TZID=America/New_York:20260301T173000
DTSTAMP:20260423T183058
CREATED:20251005T180239Z
LAST-MODIFIED:20251005T180239Z
UID:10002355-1772380800-1772386200@www.abccommunity.com
SUMMARY:Awana Clubs
DESCRIPTION:Ages PreK – 7th grade. \n 
URL:https://www.abccommunity.com/event/awana-clubs/2026-03-01/
END:VEVENT
BEGIN:VEVENT
DTSTART;TZID=America/New_York:20260301T160000
DTEND;TZID=America/New_York:20260301T173000
DTSTAMP:20260423T183058
CREATED:20251005T180553Z
LAST-MODIFIED:20251223T194510Z
UID:10002372-1772380800-1772386200@www.abccommunity.com
SUMMARY:Youth Band
DESCRIPTION:Grades 6th – 12th. \n 
URL:https://www.abccommunity.com/event/youth-band-projects-2/2026-03-01/
END:VEVENT
BEGIN:VEVENT
DTSTART;TZID=America/New_York:20260301T173000
DTEND;TZID=America/New_York:20260301T190000
DTSTAMP:20260423T183058
CREATED:20251005T180743Z
LAST-MODIFIED:20251223T195049Z
UID:10002389-1772386200-1772391600@www.abccommunity.com
SUMMARY:Youth Small Groups
DESCRIPTION:Grades 6th – 12th.
URL:https://www.abccommunity.com/event/youth-discipleship-groups/2026-03-01/
END:VEVENT
BEGIN:VEVENT
DTSTART;TZID=America/New_York:20260303T094500
DTEND;TZID=America/New_York:20260303T120000
DTSTAMP:20260423T183058
CREATED:20260107T162627Z
LAST-MODIFIED:20260107T162627Z
UID:10002839-1772531100-1772539200@www.abccommunity.com
SUMMARY:Women's Bible Study
DESCRIPTION:Contact Virginia Ferguson for details.
URL:https://www.abccommunity.com/event/womens-bible-study-3/2026-03-03/
END:VEVENT
BEGIN:VEVENT
DTSTART;TZID=America/New_York:20260303T180000
DTEND;TZID=America/New_York:20260303T180000
DTSTAMP:20260423T183058
CREATED:20260202T193035Z
LAST-MODIFIED:20260202T193038Z
UID:10002862-1772560800-1772560800@www.abccommunity.com
SUMMARY:Church Council Meeting
DESCRIPTION:
URL:https://www.abccommunity.com/event/church-council-meeting-5/
END:VEVENT
BEGIN:VEVENT
DTSTART;TZID=America/New_York:20260304T180000
DTEND;TZID=America/New_York:20260304T180000
DTSTAMP:20260423T183058
CREATED:20251005T201237Z
LAST-MODIFIED:20251005T201237Z
UID:10002514-1772647200-1772647200@www.abccommunity.com
SUMMARY:Wednesday Night Activities
DESCRIPTION:6:00pm-Supper\, 6:45pm-Youth\, 7:00pm-Missions Journey: Kids & Adult Studies\, 8:00pm-Choir
URL:https://www.abccommunity.com/event/wednesday-night-activities-6/2026-03-04/
END:VEVENT
BEGIN:VEVENT
DTSTART;TZID=America/New_York:20260308T120000
DTEND;TZID=America/New_York:20260308T120000
DTSTAMP:20260423T183058
CREATED:20260225T235623Z
LAST-MODIFIED:20260225T235623Z
UID:10002901-1772971200-1772971200@www.abccommunity.com
SUMMARY:Sunday Lunch
DESCRIPTION:Covered dish.  Open to all.
URL:https://www.abccommunity.com/event/sunday-lunch/
END:VEVENT
BEGIN:VEVENT
DTSTART;TZID=America/New_York:20260308T160000
DTEND;TZID=America/New_York:20260308T173000
DTSTAMP:20260423T183058
CREATED:20251005T180239Z
LAST-MODIFIED:20251005T180239Z
UID:10002356-1772985600-1772991000@www.abccommunity.com
SUMMARY:Awana Clubs
DESCRIPTION:Ages PreK – 7th grade. \n 
URL:https://www.abccommunity.com/event/awana-clubs/2026-03-08/
END:VEVENT
BEGIN:VEVENT
DTSTART;TZID=America/New_York:20260308T160000
DTEND;TZID=America/New_York:20260308T173000
DTSTAMP:20260423T183058
CREATED:20251005T180553Z
LAST-MODIFIED:20251223T194510Z
UID:10002373-1772985600-1772991000@www.abccommunity.com
SUMMARY:Youth Band
DESCRIPTION:Grades 6th – 12th. \n 
URL:https://www.abccommunity.com/event/youth-band-projects-2/2026-03-08/
END:VEVENT
BEGIN:VEVENT
DTSTART;TZID=America/New_York:20260308T173000
DTEND;TZID=America/New_York:20260308T190000
DTSTAMP:20260423T183058
CREATED:20251005T180743Z
LAST-MODIFIED:20251223T195049Z
UID:10002390-1772991000-1772996400@www.abccommunity.com
SUMMARY:Youth Small Groups
DESCRIPTION:Grades 6th – 12th.
URL:https://www.abccommunity.com/event/youth-discipleship-groups/2026-03-08/
END:VEVENT
BEGIN:VEVENT
DTSTART;TZID=America/New_York:20260309T100000
DTEND;TZID=America/New_York:20260309T100000
DTSTAMP:20260423T183058
CREATED:20251026T194646Z
LAST-MODIFIED:20251026T194646Z
UID:10002693-1773050400-1773050400@www.abccommunity.com
SUMMARY:ECA (FH)
DESCRIPTION:
URL:https://www.abccommunity.com/event/eca-fh-3/2026-03-09/
END:VEVENT
BEGIN:VEVENT
DTSTART;TZID=America/New_York:20260309T183000
DTEND;TZID=America/New_York:20260309T183000
DTSTAMP:20260423T183058
CREATED:20251005T200549Z
LAST-MODIFIED:20251005T200549Z
UID:10002498-1773081000-1773081000@www.abccommunity.com
SUMMARY:Men's Club Meeting
DESCRIPTION:All young and “seasoned” men of Antioch.
URL:https://www.abccommunity.com/event/mens-club-meeting-7/2026-03-09/
END:VEVENT
BEGIN:VEVENT
DTSTART;TZID=America/New_York:20260310T094500
DTEND;TZID=America/New_York:20260310T120000
DTSTAMP:20260423T183058
CREATED:20260107T162627Z
LAST-MODIFIED:20260107T162627Z
UID:10002840-1773135900-1773144000@www.abccommunity.com
SUMMARY:Women's Bible Study
DESCRIPTION:Contact Virginia Ferguson for details.
URL:https://www.abccommunity.com/event/womens-bible-study-3/2026-03-10/
END:VEVENT
BEGIN:VEVENT
DTSTART;TZID=America/New_York:20260310T120000
DTEND;TZID=America/New_York:20260310T120000
DTSTAMP:20260423T183058
CREATED:20251005T200816Z
LAST-MODIFIED:20251005T200816Z
UID:10002503-1773144000-1773144000@www.abccommunity.com
SUMMARY:Young at Heart
DESCRIPTION:Open to all!
URL:https://www.abccommunity.com/event/young-at-heart-6/2026-03-10/
END:VEVENT
BEGIN:VEVENT
DTSTART;TZID=America/New_York:20260310T180000
DTEND;TZID=America/New_York:20260310T180000
DTSTAMP:20260423T183058
CREATED:20251005T204705Z
LAST-MODIFIED:20251209T155542Z
UID:10002785-1773165600-1773165600@www.abccommunity.com
SUMMARY:Budget & Finance Committee Meeting
DESCRIPTION:
URL:https://www.abccommunity.com/event/budget-finance-committee-meeting/2026-03-10/
END:VEVENT
BEGIN:VEVENT
DTSTART;TZID=America/New_York:20260311T180000
DTEND;TZID=America/New_York:20260311T180000
DTSTAMP:20260423T183058
CREATED:20251005T201237Z
LAST-MODIFIED:20251005T201237Z
UID:10002515-1773252000-1773252000@www.abccommunity.com
SUMMARY:Wednesday Night Activities
DESCRIPTION:6:00pm-Supper\, 6:45pm-Youth\, 7:00pm-Missions Journey: Kids & Adult Studies\, 8:00pm-Choir
URL:https://www.abccommunity.com/event/wednesday-night-activities-6/2026-03-11/
END:VEVENT
BEGIN:VEVENT
DTSTART;TZID=America/New_York:20260312T190000
DTEND;TZID=America/New_York:20260312T190000
DTSTAMP:20260423T183058
CREATED:20251005T205301Z
LAST-MODIFIED:20251005T205301Z
UID:10002656-1773342000-1773342000@www.abccommunity.com
SUMMARY:Outreach Committee Meeting
DESCRIPTION:
URL:https://www.abccommunity.com/event/outreach-committee-meeting-3/2026-03-12/
END:VEVENT
BEGIN:VEVENT
DTSTART;TZID=America/New_York:20260315T110000
DTEND;TZID=America/New_York:20260315T110000
DTSTAMP:20260423T183058
CREATED:20260107T163429Z
LAST-MODIFIED:20260205T150822Z
UID:10002854-1773572400-1773572400@www.abccommunity.com
SUMMARY:Guest Speaker & Lunch & Learn Q&A
DESCRIPTION:Pastor Eric Garner  Q&A session following Sunday Lunch
URL:https://www.abccommunity.com/event/guest-speaker/
END:VEVENT
BEGIN:VEVENT
DTSTART;TZID=America/New_York:20260315T160000
DTEND;TZID=America/New_York:20260315T173000
DTSTAMP:20260423T183058
CREATED:20251005T180239Z
LAST-MODIFIED:20251005T180239Z
UID:10002357-1773590400-1773595800@www.abccommunity.com
SUMMARY:Awana Clubs
DESCRIPTION:Ages PreK – 7th grade. \n 
URL:https://www.abccommunity.com/event/awana-clubs/2026-03-15/
END:VEVENT
BEGIN:VEVENT
DTSTART;TZID=America/New_York:20260316T190000
DTEND;TZID=America/New_York:20260316T190000
DTSTAMP:20260423T183058
CREATED:20251005T205019Z
LAST-MODIFIED:20251005T205019Z
UID:10002644-1773687600-1773687600@www.abccommunity.com
SUMMARY:Deacons' Meeting
DESCRIPTION:
URL:https://www.abccommunity.com/event/deacons-meeting-3/2026-03-16/
END:VEVENT
BEGIN:VEVENT
DTSTART;TZID=America/New_York:20260317T090000
DTEND;TZID=America/New_York:20260317T090000
DTSTAMP:20260423T183058
CREATED:20251026T194753Z
LAST-MODIFIED:20251026T194753Z
UID:10002703-1773738000-1773738000@www.abccommunity.com
SUMMARY:April newsletter articles are due.
DESCRIPTION:
URL:https://www.abccommunity.com/event/april-newsletter-articles-are-due/
END:VEVENT
BEGIN:VEVENT
DTSTART;TZID=America/New_York:20260317T094500
DTEND;TZID=America/New_York:20260317T120000
DTSTAMP:20260423T183058
CREATED:20260107T162627Z
LAST-MODIFIED:20260107T162627Z
UID:10002841-1773740700-1773748800@www.abccommunity.com
SUMMARY:Women's Bible Study
DESCRIPTION:Contact Virginia Ferguson for details.
URL:https://www.abccommunity.com/event/womens-bible-study-3/2026-03-17/
END:VEVENT
BEGIN:VEVENT
DTSTART;TZID=America/New_York:20260317T180000
DTEND;TZID=America/New_York:20260317T180000
DTSTAMP:20260423T183058
CREATED:20260302T182307Z
LAST-MODIFIED:20260302T182314Z
UID:10002904-1773770400-1773770400@www.abccommunity.com
SUMMARY:ADHOC Space Evaluation Committee Mtg.
DESCRIPTION:Senior “Faith” SS Classroom
URL:https://www.abccommunity.com/event/adhoc-space-evaluation-committee-mtg/
END:VEVENT
BEGIN:VEVENT
DTSTART;TZID=America/New_York:20260317T190000
DTEND;TZID=America/New_York:20260317T190000
DTSTAMP:20260423T183058
CREATED:20251027T234834Z
LAST-MODIFIED:20260106T004938Z
UID:10002825-1773774000-1773774000@www.abccommunity.com
SUMMARY:Safety & Security Comm. Mtg.
DESCRIPTION:
URL:https://www.abccommunity.com/event/safety-security-comm-mtg-2/2026-03-17/
END:VEVENT
BEGIN:VEVENT
DTSTART;TZID=America/New_York:20260318T180000
DTEND;TZID=America/New_York:20260318T180000
DTSTAMP:20260423T183058
CREATED:20251005T201237Z
LAST-MODIFIED:20251005T201237Z
UID:10002516-1773856800-1773856800@www.abccommunity.com
SUMMARY:Wednesday Night Activities
DESCRIPTION:6:00pm-Supper\, 6:45pm-Youth\, 7:00pm-Missions Journey: Kids & Adult Studies\, 8:00pm-Choir
URL:https://www.abccommunity.com/event/wednesday-night-activities-6/2026-03-18/
END:VEVENT
BEGIN:VEVENT
DTSTART;TZID=America/New_York:20260320T000000
DTEND;TZID=America/New_York:20260322T235959
DTSTAMP:20260423T183058
CREATED:20260205T150917Z
LAST-MODIFIED:20260218T163847Z
UID:10002868-1773964800-1774223999@www.abccommunity.com
SUMMARY:Youth (Boys) Spring Retreat
DESCRIPTION:Chestnut Ridge Camp & Retreat Center
URL:https://www.abccommunity.com/event/youth-boys-spring-retreat/
END:VEVENT
BEGIN:VEVENT
DTSTART;TZID=America/New_York:20260320T190000
DTEND;TZID=America/New_York:20260320T190000
DTSTAMP:20260423T183058
CREATED:20260218T191156Z
LAST-MODIFIED:20260218T191202Z
UID:10002897-1774033200-1774033200@www.abccommunity.com
SUMMARY:(FH & Sanctuary) Outreach Event set-up
DESCRIPTION:More details to come.
URL:https://www.abccommunity.com/event/fh-sanctuary-outreach-event-set-up/
END:VEVENT
BEGIN:VEVENT
DTSTART;TZID=America/New_York:20260321T080000
DTEND;TZID=America/New_York:20260321T080000
DTSTAMP:20260423T183058
CREATED:20260218T191407Z
LAST-MODIFIED:20260218T191412Z
UID:10002898-1774080000-1774080000@www.abccommunity.com
SUMMARY:(FH & Sanctuary) Outreach Event
DESCRIPTION:More details coming soon.
URL:https://www.abccommunity.com/event/fh-sanctuary-outreach-event/
END:VEVENT
BEGIN:VEVENT
DTSTART;TZID=America/New_York:20260322T120000
DTEND;TZID=America/New_York:20260322T120000
DTSTAMP:20260423T183058
CREATED:20260225T235704Z
LAST-MODIFIED:20260225T235704Z
UID:10002902-1774180800-1774180800@www.abccommunity.com
SUMMARY:Sunday Lunch
DESCRIPTION:Covered dish.  Open to all.
URL:https://www.abccommunity.com/event/sunday-lunch-2/
END:VEVENT
END:VCALENDAR