BEGIN:VCALENDAR
VERSION:2.0
PRODID:-//Antioch Baptist Church - ECPv6.15.20//NONSGML v1.0//EN
CALSCALE:GREGORIAN
METHOD:PUBLISH
X-WR-CALNAME:Antioch Baptist Church
X-ORIGINAL-URL:https://www.abccommunity.com
X-WR-CALDESC:Events for Antioch Baptist Church
REFRESH-INTERVAL;VALUE=DURATION:PT1H
X-Robots-Tag:noindex
X-PUBLISHED-TTL:PT1H
BEGIN:VTIMEZONE
TZID:America/New_York
BEGIN:DAYLIGHT
TZOFFSETFROM:-0500
TZOFFSETTO:-0400
TZNAME:EDT
DTSTART:20250309T070000
END:DAYLIGHT
BEGIN:STANDARD
TZOFFSETFROM:-0400
TZOFFSETTO:-0500
TZNAME:EST
DTSTART:20251102T060000
END:STANDARD
BEGIN:DAYLIGHT
TZOFFSETFROM:-0500
TZOFFSETTO:-0400
TZNAME:EDT
DTSTART:20260308T070000
END:DAYLIGHT
BEGIN:STANDARD
TZOFFSETFROM:-0400
TZOFFSETTO:-0500
TZNAME:EST
DTSTART:20261101T060000
END:STANDARD
BEGIN:DAYLIGHT
TZOFFSETFROM:-0500
TZOFFSETTO:-0400
TZNAME:EDT
DTSTART:20270314T070000
END:DAYLIGHT
BEGIN:STANDARD
TZOFFSETFROM:-0400
TZOFFSETTO:-0500
TZNAME:EST
DTSTART:20271107T060000
END:STANDARD
END:VTIMEZONE
BEGIN:VEVENT
DTSTART;TZID=America/New_York:20260101T000000
DTEND;TZID=America/New_York:20260101T235959
DTSTAMP:20260423T221134
CREATED:20251026T192055Z
LAST-MODIFIED:20251026T192055Z
UID:10002673-1767225600-1767311999@www.abccommunity.com
SUMMARY:Church Office Closed
DESCRIPTION:
URL:https://www.abccommunity.com/event/church-office-closed/
END:VEVENT
BEGIN:VEVENT
DTSTART;TZID=America/New_York:20260104T120000
DTEND;TZID=America/New_York:20260104T120000
DTSTAMP:20260423T221134
CREATED:20251005T181642Z
LAST-MODIFIED:20251005T181642Z
UID:10002400-1767528000-1767528000@www.abccommunity.com
SUMMARY:Sunday Lunch
DESCRIPTION:Covered-dish lunch in the fellowship hall – all are invited.
URL:https://www.abccommunity.com/event/sunday-lunch-7/
END:VEVENT
BEGIN:VEVENT
DTSTART;TZID=America/New_York:20260104T160000
DTEND;TZID=America/New_York:20260104T173000
DTSTAMP:20260423T221134
CREATED:20251005T180239Z
LAST-MODIFIED:20251005T180239Z
UID:10002347-1767542400-1767547800@www.abccommunity.com
SUMMARY:Awana Clubs
DESCRIPTION:Ages PreK – 7th grade. \n 
URL:https://www.abccommunity.com/event/awana-clubs/2026-01-04/
END:VEVENT
BEGIN:VEVENT
DTSTART;TZID=America/New_York:20260104T160000
DTEND;TZID=America/New_York:20260104T173000
DTSTAMP:20260423T221134
CREATED:20251005T180553Z
LAST-MODIFIED:20251223T194510Z
UID:10002364-1767542400-1767547800@www.abccommunity.com
SUMMARY:Youth Band
DESCRIPTION:Grades 6th – 12th. \n 
URL:https://www.abccommunity.com/event/youth-band-projects-2/2026-01-04/
END:VEVENT
BEGIN:VEVENT
DTSTART;TZID=America/New_York:20260104T173000
DTEND;TZID=America/New_York:20260104T190000
DTSTAMP:20260423T221134
CREATED:20251005T180743Z
LAST-MODIFIED:20251223T195049Z
UID:10002381-1767547800-1767553200@www.abccommunity.com
SUMMARY:Youth Small Groups
DESCRIPTION:Grades 6th – 12th.
URL:https://www.abccommunity.com/event/youth-discipleship-groups/2026-01-04/
END:VEVENT
BEGIN:VEVENT
DTSTART;TZID=America/New_York:20260105T180000
DTEND;TZID=America/New_York:20260105T180000
DTSTAMP:20260423T221134
CREATED:20251005T175220Z
LAST-MODIFIED:20251031T162605Z
UID:10002758-1767636000-1767636000@www.abccommunity.com
SUMMARY:Church Council Meeting
DESCRIPTION:
URL:https://www.abccommunity.com/event/church-council-meeting-3/2026-01-05/
END:VEVENT
BEGIN:VEVENT
DTSTART;TZID=America/New_York:20260106T100000
DTEND;TZID=America/New_York:20260106T120000
DTSTAMP:20260423T221134
CREATED:20251026T192330Z
LAST-MODIFIED:20251026T192330Z
UID:10002674-1767693600-1767700800@www.abccommunity.com
SUMMARY:Women's Bible Study
DESCRIPTION:All are welcome. Fellowship Hall
URL:https://www.abccommunity.com/event/womens-bible-study/
END:VEVENT
BEGIN:VEVENT
DTSTART;TZID=America/New_York:20260107T180000
DTEND;TZID=America/New_York:20260107T180000
DTSTAMP:20260423T221134
CREATED:20251005T201237Z
LAST-MODIFIED:20251005T201237Z
UID:10002506-1767808800-1767808800@www.abccommunity.com
SUMMARY:Wednesday Night Activities
DESCRIPTION:6:00pm-Supper\, 6:45pm-Youth\, 7:00pm-Missions Journey: Kids & Adult Studies\, 8:00pm-Choir
URL:https://www.abccommunity.com/event/wednesday-night-activities-6/2026-01-07/
END:VEVENT
BEGIN:VEVENT
DTSTART;TZID=America/New_York:20260108T190000
DTEND;TZID=America/New_York:20260108T190000
DTSTAMP:20260423T221134
CREATED:20251005T205301Z
LAST-MODIFIED:20251005T205301Z
UID:10002654-1767898800-1767898800@www.abccommunity.com
SUMMARY:Outreach Committee Meeting
DESCRIPTION:
URL:https://www.abccommunity.com/event/outreach-committee-meeting-3/2026-01-08/
END:VEVENT
BEGIN:VEVENT
DTSTART;TZID=America/New_York:20260111T120000
DTEND;TZID=America/New_York:20260111T120000
DTSTAMP:20260423T221134
CREATED:20251005T181917Z
LAST-MODIFIED:20251005T181917Z
UID:10002401-1768132800-1768132800@www.abccommunity.com
SUMMARY:Sunday Lunch
DESCRIPTION:Covered-dish lunch – all are invited.
URL:https://www.abccommunity.com/event/sunday-lunch-8/2026-01-11/
END:VEVENT
BEGIN:VEVENT
DTSTART;TZID=America/New_York:20260111T160000
DTEND;TZID=America/New_York:20260111T173000
DTSTAMP:20260423T221134
CREATED:20251005T180239Z
LAST-MODIFIED:20251005T180239Z
UID:10002348-1768147200-1768152600@www.abccommunity.com
SUMMARY:Awana Clubs
DESCRIPTION:Ages PreK – 7th grade. \n 
URL:https://www.abccommunity.com/event/awana-clubs/2026-01-11/
END:VEVENT
BEGIN:VEVENT
DTSTART;TZID=America/New_York:20260111T160000
DTEND;TZID=America/New_York:20260111T173000
DTSTAMP:20260423T221134
CREATED:20251005T180553Z
LAST-MODIFIED:20251223T194510Z
UID:10002365-1768147200-1768152600@www.abccommunity.com
SUMMARY:Youth Band
DESCRIPTION:Grades 6th – 12th. \n 
URL:https://www.abccommunity.com/event/youth-band-projects-2/2026-01-11/
END:VEVENT
BEGIN:VEVENT
DTSTART;TZID=America/New_York:20260111T173000
DTEND;TZID=America/New_York:20260111T190000
DTSTAMP:20260423T221134
CREATED:20251005T180743Z
LAST-MODIFIED:20251223T195049Z
UID:10002382-1768152600-1768158000@www.abccommunity.com
SUMMARY:Youth Small Groups
DESCRIPTION:Grades 6th – 12th.
URL:https://www.abccommunity.com/event/youth-discipleship-groups/2026-01-11/
END:VEVENT
BEGIN:VEVENT
DTSTART;TZID=America/New_York:20260112T100000
DTEND;TZID=America/New_York:20260112T100000
DTSTAMP:20260423T221134
CREATED:20251026T192656Z
LAST-MODIFIED:20251026T192656Z
UID:10002676-1768212000-1768212000@www.abccommunity.com
SUMMARY:ECA (FH)
DESCRIPTION:
URL:https://www.abccommunity.com/event/eca-fh/
END:VEVENT
BEGIN:VEVENT
DTSTART;TZID=America/New_York:20260112T183000
DTEND;TZID=America/New_York:20260112T183000
DTSTAMP:20260423T221134
CREATED:20251005T200549Z
LAST-MODIFIED:20251005T200549Z
UID:10002496-1768242600-1768242600@www.abccommunity.com
SUMMARY:Men's Club Meeting
DESCRIPTION:All young and “seasoned” men of Antioch.
URL:https://www.abccommunity.com/event/mens-club-meeting-7/2026-01-12/
END:VEVENT
BEGIN:VEVENT
DTSTART;TZID=America/New_York:20260113T100000
DTEND;TZID=America/New_York:20260113T120000
DTSTAMP:20260423T221134
CREATED:20251026T192457Z
LAST-MODIFIED:20251026T192457Z
UID:10002675-1768298400-1768305600@www.abccommunity.com
SUMMARY:Women's Bible Study
DESCRIPTION:All are welcome.  Fellowship Hall
URL:https://www.abccommunity.com/event/womens-bible-study-2/
END:VEVENT
BEGIN:VEVENT
DTSTART;TZID=America/New_York:20260113T120000
DTEND;TZID=America/New_York:20260113T120000
DTSTAMP:20260423T221134
CREATED:20251005T200816Z
LAST-MODIFIED:20251005T200816Z
UID:10002501-1768305600-1768305600@www.abccommunity.com
SUMMARY:Young at Heart
DESCRIPTION:Open to all!
URL:https://www.abccommunity.com/event/young-at-heart-6/2026-01-13/
END:VEVENT
BEGIN:VEVENT
DTSTART;TZID=America/New_York:20260113T180000
DTEND;TZID=America/New_York:20260113T180000
DTSTAMP:20260423T221134
CREATED:20251005T204705Z
LAST-MODIFIED:20251209T155542Z
UID:10002783-1768327200-1768327200@www.abccommunity.com
SUMMARY:Budget & Finance Committee Meeting
DESCRIPTION:
URL:https://www.abccommunity.com/event/budget-finance-committee-meeting/2026-01-13/
END:VEVENT
BEGIN:VEVENT
DTSTART;TZID=America/New_York:20260113T190000
DTEND;TZID=America/New_York:20260113T190000
DTSTAMP:20260423T221134
CREATED:20260107T161051Z
LAST-MODIFIED:20260107T161056Z
UID:10002830-1768330800-1768330800@www.abccommunity.com
SUMMARY:Bylaws Committee Meeting
DESCRIPTION:Parlor
URL:https://www.abccommunity.com/event/bylaws-committee-meeting/
END:VEVENT
BEGIN:VEVENT
DTSTART;TZID=America/New_York:20260114T180000
DTEND;TZID=America/New_York:20260114T180000
DTSTAMP:20260423T221134
CREATED:20251005T201237Z
LAST-MODIFIED:20251005T201237Z
UID:10002507-1768413600-1768413600@www.abccommunity.com
SUMMARY:Wednesday Night Activities
DESCRIPTION:6:00pm-Supper\, 6:45pm-Youth\, 7:00pm-Missions Journey: Kids & Adult Studies\, 8:00pm-Choir
URL:https://www.abccommunity.com/event/wednesday-night-activities-6/2026-01-14/
END:VEVENT
BEGIN:VEVENT
DTSTART;TZID=America/New_York:20260115T180000
DTEND;TZID=America/New_York:20260115T180000
DTSTAMP:20260423T221134
CREATED:20260102T191911Z
LAST-MODIFIED:20260102T191918Z
UID:10002822-1768500000-1768500000@www.abccommunity.com
SUMMARY:YOUTH Jr./Sr. Missions:  Parents Mtg. Youth Room
DESCRIPTION:
URL:https://www.abccommunity.com/event/youth-jr-sr-missions-parents-mtg-youth-room/
END:VEVENT
BEGIN:VEVENT
DTSTART;TZID=America/New_York:20260116T000000
DTEND;TZID=America/New_York:20260116T235959
DTSTAMP:20260423T221134
CREATED:20260102T192011Z
LAST-MODIFIED:20260102T192029Z
UID:10002823-1768521600-1768607999@www.abccommunity.com
SUMMARY:YOUTH:  Summer Camp registration deadline
DESCRIPTION:
URL:https://www.abccommunity.com/event/youth-summer-camp-registration-deadline/
END:VEVENT
BEGIN:VEVENT
DTSTART;TZID=America/New_York:20260116T090000
DTEND;TZID=America/New_York:20260116T090000
DTSTAMP:20260423T221134
CREATED:20251026T192813Z
LAST-MODIFIED:20251026T192813Z
UID:10002677-1768554000-1768554000@www.abccommunity.com
SUMMARY:Feb. newsletter articles are due
DESCRIPTION:
URL:https://www.abccommunity.com/event/feb-newsletter-articles-are-due/
END:VEVENT
BEGIN:VEVENT
DTSTART;TZID=America/New_York:20260116T120000
DTEND;TZID=America/New_York:20260116T120000
DTSTAMP:20260423T221134
CREATED:20260114T184348Z
LAST-MODIFIED:20260114T184348Z
UID:10002859-1768564800-1768564800@www.abccommunity.com
SUMMARY:Funeral Service: Visitation- Mary Frances Howard
DESCRIPTION:12:00 Visitation / 1:00 Funeral Service / followed by Graveside Service
URL:https://www.abccommunity.com/event/funeral-service-visitation-mary-frances-howard/
END:VEVENT
BEGIN:VEVENT
DTSTART;TZID=America/New_York:20260116T130000
DTEND;TZID=America/New_York:20260116T130000
DTSTAMP:20260423T221134
CREATED:20260114T184429Z
LAST-MODIFIED:20260114T184429Z
UID:10002860-1768568400-1768568400@www.abccommunity.com
SUMMARY:Funeral Service:  Mary Frances Howard
DESCRIPTION:
URL:https://www.abccommunity.com/event/funeral-service-mary-frances-howard/
END:VEVENT
BEGIN:VEVENT
DTSTART;TZID=America/New_York:20260118T120000
DTEND;TZID=America/New_York:20260118T120000
DTSTAMP:20260423T221134
CREATED:20251203T153452Z
LAST-MODIFIED:20251203T153452Z
UID:10002781-1768737600-1768737600@www.abccommunity.com
SUMMARY:Youth "Hotdog Lunch" Fundraiser
DESCRIPTION:
URL:https://www.abccommunity.com/event/youth-hotdog-lunch-fundraiser/
END:VEVENT
BEGIN:VEVENT
DTSTART;TZID=America/New_York:20260118T160000
DTEND;TZID=America/New_York:20260118T173000
DTSTAMP:20260423T221134
CREATED:20251005T180239Z
LAST-MODIFIED:20251005T180239Z
UID:10002349-1768752000-1768757400@www.abccommunity.com
SUMMARY:Awana Clubs
DESCRIPTION:Ages PreK – 7th grade. \n 
URL:https://www.abccommunity.com/event/awana-clubs/2026-01-18/
END:VEVENT
BEGIN:VEVENT
DTSTART;TZID=America/New_York:20260118T160000
DTEND;TZID=America/New_York:20260118T173000
DTSTAMP:20260423T221134
CREATED:20251005T180553Z
LAST-MODIFIED:20251223T194510Z
UID:10002366-1768752000-1768757400@www.abccommunity.com
SUMMARY:Youth Band
DESCRIPTION:Grades 6th – 12th. \n 
URL:https://www.abccommunity.com/event/youth-band-projects-2/2026-01-18/
END:VEVENT
BEGIN:VEVENT
DTSTART;TZID=America/New_York:20260118T173000
DTEND;TZID=America/New_York:20260118T190000
DTSTAMP:20260423T221134
CREATED:20251005T180743Z
LAST-MODIFIED:20251223T195049Z
UID:10002383-1768757400-1768762800@www.abccommunity.com
SUMMARY:Youth Small Groups
DESCRIPTION:Grades 6th – 12th.
URL:https://www.abccommunity.com/event/youth-discipleship-groups/2026-01-18/
END:VEVENT
BEGIN:VEVENT
DTSTART;TZID=America/New_York:20260119T190000
DTEND;TZID=America/New_York:20260119T190000
DTSTAMP:20260423T221134
CREATED:20251203T153350Z
LAST-MODIFIED:20251203T153352Z
UID:10002642-1768849200-1768849200@www.abccommunity.com
SUMMARY:Deacons' Meal
DESCRIPTION:
URL:https://www.abccommunity.com/event/deacons-meeting-3-2/
END:VEVENT
END:VCALENDAR