BEGIN:VCALENDAR
VERSION:2.0
PRODID:-//Antioch Baptist Church - ECPv6.15.20//NONSGML v1.0//EN
CALSCALE:GREGORIAN
METHOD:PUBLISH
X-WR-CALNAME:Antioch Baptist Church
X-ORIGINAL-URL:https://www.abccommunity.com
X-WR-CALDESC:Events for Antioch Baptist Church
REFRESH-INTERVAL;VALUE=DURATION:PT1H
X-Robots-Tag:noindex
X-PUBLISHED-TTL:PT1H
BEGIN:VTIMEZONE
TZID:America/New_York
BEGIN:DAYLIGHT
TZOFFSETFROM:-0500
TZOFFSETTO:-0400
TZNAME:EDT
DTSTART:20240310T070000
END:DAYLIGHT
BEGIN:STANDARD
TZOFFSETFROM:-0400
TZOFFSETTO:-0500
TZNAME:EST
DTSTART:20241103T060000
END:STANDARD
BEGIN:DAYLIGHT
TZOFFSETFROM:-0500
TZOFFSETTO:-0400
TZNAME:EDT
DTSTART:20250309T070000
END:DAYLIGHT
BEGIN:STANDARD
TZOFFSETFROM:-0400
TZOFFSETTO:-0500
TZNAME:EST
DTSTART:20251102T060000
END:STANDARD
BEGIN:DAYLIGHT
TZOFFSETFROM:-0500
TZOFFSETTO:-0400
TZNAME:EDT
DTSTART:20260308T070000
END:DAYLIGHT
BEGIN:STANDARD
TZOFFSETFROM:-0400
TZOFFSETTO:-0500
TZNAME:EST
DTSTART:20261101T060000
END:STANDARD
END:VTIMEZONE
BEGIN:VEVENT
DTSTART;TZID=America/New_York:20251201T180000
DTEND;TZID=America/New_York:20251201T180000
DTSTAMP:20260423T232707
CREATED:20251031T162737Z
LAST-MODIFIED:20251031T162740Z
UID:10002215-1764612000-1764612000@www.abccommunity.com
SUMMARY:Church Council Meeting
DESCRIPTION:
URL:https://www.abccommunity.com/event/church-council-meeting-4/
END:VEVENT
BEGIN:VEVENT
DTSTART;TZID=America/New_York:20251202T100000
DTEND;TZID=America/New_York:20251202T100000
DTSTAMP:20260423T232707
CREATED:20250804T150822Z
LAST-MODIFIED:20250804T150822Z
UID:10002274-1764669600-1764669600@www.abccommunity.com
SUMMARY:Women's Bible Study
DESCRIPTION:“40 Days Through the Bible’ by Lysa Terkeurst.  Contact Virginia Ferguson for Study Book.
URL:https://www.abccommunity.com/event/womens-bible-study-4/2025-12-02/
END:VEVENT
BEGIN:VEVENT
DTSTART;TZID=America/New_York:20251203T180000
DTEND;TZID=America/New_York:20251203T180000
DTSTAMP:20260423T232707
CREATED:20241119T172417Z
LAST-MODIFIED:20250917T174214Z
UID:10001824-1764784800-1764784800@www.abccommunity.com
SUMMARY:Wednesday Night Activities
DESCRIPTION:6:00:  Wednesday Night Supper\, 6:45 p.m.:  Youth Group\,  7:00:  Adult Bible Study\, BASICS Class & Missions Journey Kids\, 8:00 Choir
URL:https://www.abccommunity.com/event/wednesday-night-activities-4/2025-12-03/
END:VEVENT
BEGIN:VEVENT
DTSTART;TZID=America/New_York:20251205T000000
DTEND;TZID=America/New_York:20251205T235959
DTSTAMP:20260423T232707
CREATED:20250903T132854Z
LAST-MODIFIED:20250903T132854Z
UID:10002314-1764892800-1764979199@www.abccommunity.com
SUMMARY:(FHR) set-up
DESCRIPTION:
URL:https://www.abccommunity.com/event/fhr-set-up/
END:VEVENT
BEGIN:VEVENT
DTSTART;TZID=America/New_York:20251206T100000
DTEND;TZID=America/New_York:20251206T120000
DTSTAMP:20260423T232707
CREATED:20250903T132939Z
LAST-MODIFIED:20251022T172718Z
UID:10002315-1765015200-1765022400@www.abccommunity.com
SUMMARY:A Christmas Tea "Tinsel & Teacups"
DESCRIPTION:Contact Virginia Ferguson for details.
URL:https://www.abccommunity.com/event/christmas-tea/
END:VEVENT
BEGIN:VEVENT
DTSTART;TZID=America/New_York:20251207T110000
DTEND;TZID=America/New_York:20251207T110000
DTSTAMP:20260423T232707
CREATED:20250805T144343Z
LAST-MODIFIED:20250912T144355Z
UID:10002280-1765105200-1765105200@www.abccommunity.com
SUMMARY:Christmas Cantata
DESCRIPTION:
URL:https://www.abccommunity.com/event/christmas-cantata/
END:VEVENT
BEGIN:VEVENT
DTSTART;TZID=America/New_York:20251207T110000
DTEND;TZID=America/New_York:20251207T110000
DTSTAMP:20260423T232707
CREATED:20250922T153647Z
LAST-MODIFIED:20250922T153653Z
UID:10002324-1765105200-1765105200@www.abccommunity.com
SUMMARY:Angel Tree Gift Collection
DESCRIPTION:
URL:https://www.abccommunity.com/event/angel-tree-gift-collection/
END:VEVENT
BEGIN:VEVENT
DTSTART;TZID=America/New_York:20251207T120000
DTEND;TZID=America/New_York:20251207T120000
DTSTAMP:20260423T232707
CREATED:20250805T151312Z
LAST-MODIFIED:20251109T003052Z
UID:10002289-1765108800-1765108800@www.abccommunity.com
SUMMARY:Sunday Lunch
DESCRIPTION:
URL:https://www.abccommunity.com/event/sunday-lunch-6/2025-12-07/
END:VEVENT
BEGIN:VEVENT
DTSTART;TZID=America/New_York:20251207T160000
DTEND;TZID=America/New_York:20251207T173000
DTSTAMP:20260423T232707
CREATED:20250819T221650Z
LAST-MODIFIED:20250819T221650Z
UID:10002307-1765123200-1765128600@www.abccommunity.com
SUMMARY:Youth Band / Projects
DESCRIPTION:
URL:https://www.abccommunity.com/event/youth-band-projects/2025-12-07/
END:VEVENT
BEGIN:VEVENT
DTSTART;TZID=America/New_York:20251207T160000
DTEND;TZID=America/New_York:20251207T173000
DTSTAMP:20260423T232707
CREATED:20250819T221824Z
LAST-MODIFIED:20250819T221824Z
UID:10002309-1765123200-1765128600@www.abccommunity.com
SUMMARY:Youth Discipleship Group
DESCRIPTION:
URL:https://www.abccommunity.com/event/youth-discipleship-group-3/2025-12-07/
END:VEVENT
BEGIN:VEVENT
DTSTART;TZID=America/New_York:20251208T100000
DTEND;TZID=America/New_York:20251208T100000
DTSTAMP:20260423T232707
CREATED:20241119T174906Z
LAST-MODIFIED:20241119T174906Z
UID:10001886-1765188000-1765188000@www.abccommunity.com
SUMMARY:ECA Gathering
DESCRIPTION:
URL:https://www.abccommunity.com/event/eca-gathering/2025-12-08/
END:VEVENT
BEGIN:VEVENT
DTSTART;TZID=America/New_York:20251209T100000
DTEND;TZID=America/New_York:20251209T100000
DTSTAMP:20260423T232707
CREATED:20250804T150822Z
LAST-MODIFIED:20250804T150822Z
UID:10002275-1765274400-1765274400@www.abccommunity.com
SUMMARY:Women's Bible Study
DESCRIPTION:“40 Days Through the Bible’ by Lysa Terkeurst.  Contact Virginia Ferguson for Study Book.
URL:https://www.abccommunity.com/event/womens-bible-study-4/2025-12-09/
END:VEVENT
BEGIN:VEVENT
DTSTART;TZID=America/New_York:20251210T180000
DTEND;TZID=America/New_York:20251210T180000
DTSTAMP:20260423T232707
CREATED:20241119T172417Z
LAST-MODIFIED:20250917T174214Z
UID:10001825-1765389600-1765389600@www.abccommunity.com
SUMMARY:Wednesday Night Activities
DESCRIPTION:6:00:  Wednesday Night Supper\, 6:45 p.m.:  Youth Group\,  7:00:  Adult Bible Study\, BASICS Class & Missions Journey Kids\, 8:00 Choir
URL:https://www.abccommunity.com/event/wednesday-night-activities-4/2025-12-10/
END:VEVENT
BEGIN:VEVENT
DTSTART;TZID=America/New_York:20251211T190000
DTEND;TZID=America/New_York:20251211T190000
DTSTAMP:20260423T232707
CREATED:20250915T171723Z
LAST-MODIFIED:20250915T171728Z
UID:10001874-1765479600-1765479600@www.abccommunity.com
SUMMARY:Outreach Committee Mtg.
DESCRIPTION:
URL:https://www.abccommunity.com/event/outreach-committee-mtg-4-3/
END:VEVENT
BEGIN:VEVENT
DTSTART;TZID=America/New_York:20251212T000000
DTEND;TZID=America/New_York:20251212T235959
DTSTAMP:20260423T232707
CREATED:20250903T133258Z
LAST-MODIFIED:20251022T172449Z
UID:10002317-1765497600-1765583999@www.abccommunity.com
SUMMARY:Men's Club Beast Feast
DESCRIPTION:Hosted at Cecil Farm Barn
URL:https://www.abccommunity.com/event/mens-club-beast-feast-2/
END:VEVENT
BEGIN:VEVENT
DTSTART;TZID=America/New_York:20251213T000000
DTEND;TZID=America/New_York:20251213T235959
DTSTAMP:20260423T232707
CREATED:20250918T142300Z
LAST-MODIFIED:20250918T142306Z
UID:10002322-1765584000-1765670399@www.abccommunity.com
SUMMARY:FHR (Private Event)
DESCRIPTION:
URL:https://www.abccommunity.com/event/fhr-private-event/
END:VEVENT
BEGIN:VEVENT
DTSTART;TZID=America/New_York:20251213T080000
DTEND;TZID=America/New_York:20251213T080000
DTSTAMP:20260423T232707
CREATED:20251003T145640Z
LAST-MODIFIED:20251003T145646Z
UID:10002327-1765612800-1765612800@www.abccommunity.com
SUMMARY:Leaf Raking Event
DESCRIPTION:
URL:https://www.abccommunity.com/event/leaf-raking-event/
END:VEVENT
BEGIN:VEVENT
DTSTART;TZID=America/New_York:20251214T120000
DTEND;TZID=America/New_York:20251214T120000
DTSTAMP:20260423T232707
CREATED:20251210T194151Z
LAST-MODIFIED:20251210T194213Z
UID:10002797-1765713600-1765713600@www.abccommunity.com
SUMMARY:Safety & Security Meeting
DESCRIPTION:Parlor
URL:https://www.abccommunity.com/event/safety-security-meeting/
END:VEVENT
BEGIN:VEVENT
DTSTART;TZID=America/New_York:20251214T160000
DTEND;TZID=America/New_York:20251214T173000
DTSTAMP:20260423T232707
CREATED:20250819T221650Z
LAST-MODIFIED:20250819T221650Z
UID:10002308-1765728000-1765733400@www.abccommunity.com
SUMMARY:Youth Band / Projects
DESCRIPTION:
URL:https://www.abccommunity.com/event/youth-band-projects/2025-12-14/
END:VEVENT
BEGIN:VEVENT
DTSTART;TZID=America/New_York:20251214T160000
DTEND;TZID=America/New_York:20251214T173000
DTSTAMP:20260423T232707
CREATED:20250819T221824Z
LAST-MODIFIED:20250819T221824Z
UID:10002310-1765728000-1765733400@www.abccommunity.com
SUMMARY:Youth Discipleship Group
DESCRIPTION:
URL:https://www.abccommunity.com/event/youth-discipleship-group-3/2025-12-14/
END:VEVENT
BEGIN:VEVENT
DTSTART;TZID=America/New_York:20251214T180000
DTEND;TZID=America/New_York:20251214T180000
DTSTAMP:20260423T232707
CREATED:20241119T230943Z
LAST-MODIFIED:20241119T230943Z
UID:10002024-1765735200-1765735200@www.abccommunity.com
SUMMARY:Business Meeting
DESCRIPTION:
URL:https://www.abccommunity.com/event/business-meeting-7/
END:VEVENT
BEGIN:VEVENT
DTSTART;TZID=America/New_York:20251215T190000
DTEND;TZID=America/New_York:20251215T190000
DTSTAMP:20260423T232707
CREATED:20251022T173014Z
LAST-MODIFIED:20251203T153810Z
UID:10001899-1765825200-1765825200@www.abccommunity.com
SUMMARY:Deacons' Meeting
DESCRIPTION:
URL:https://www.abccommunity.com/event/deacons-meeting-4/
END:VEVENT
BEGIN:VEVENT
DTSTART;TZID=America/New_York:20251216T090000
DTEND;TZID=America/New_York:20251216T090000
DTSTAMP:20260423T232707
CREATED:20241119T230845Z
LAST-MODIFIED:20241119T230845Z
UID:10002023-1765875600-1765875600@www.abccommunity.com
SUMMARY:Jan. newsletter articles are due.
DESCRIPTION:
URL:https://www.abccommunity.com/event/jan-newsletter-articles-are-due/
END:VEVENT
BEGIN:VEVENT
DTSTART;TZID=America/New_York:20251216T100000
DTEND;TZID=America/New_York:20251216T100000
DTSTAMP:20260423T232707
CREATED:20250804T150822Z
LAST-MODIFIED:20250804T150822Z
UID:10002276-1765879200-1765879200@www.abccommunity.com
SUMMARY:Women's Bible Study
DESCRIPTION:“40 Days Through the Bible’ by Lysa Terkeurst.  Contact Virginia Ferguson for Study Book.
URL:https://www.abccommunity.com/event/womens-bible-study-4/2025-12-16/
END:VEVENT
BEGIN:VEVENT
DTSTART;TZID=America/New_York:20251217T180000
DTEND;TZID=America/New_York:20251217T180000
DTSTAMP:20260423T232707
CREATED:20241119T172417Z
LAST-MODIFIED:20250917T174214Z
UID:10001826-1765994400-1765994400@www.abccommunity.com
SUMMARY:Wednesday Night Activities
DESCRIPTION:6:00:  Wednesday Night Supper\, 6:45 p.m.:  Youth Group\,  7:00:  Adult Bible Study\, BASICS Class & Missions Journey Kids\, 8:00 Choir
URL:https://www.abccommunity.com/event/wednesday-night-activities-4/2025-12-17/
END:VEVENT
BEGIN:VEVENT
DTSTART;TZID=America/New_York:20251220T080000
DTEND;TZID=America/New_York:20251220T080000
DTSTAMP:20260423T232707
CREATED:20251003T145719Z
LAST-MODIFIED:20251003T145730Z
UID:10002328-1766217600-1766217600@www.abccommunity.com
SUMMARY:(rain date) Leaf Raking Event
DESCRIPTION:
URL:https://www.abccommunity.com/event/rain-date-leaf-raking-event/
END:VEVENT
BEGIN:VEVENT
DTSTART;TZID=America/New_York:20251220T110000
DTEND;TZID=America/New_York:20251220T150000
DTSTAMP:20260423T232707
CREATED:20241224T142556Z
LAST-MODIFIED:20241224T142600Z
UID:10002055-1766228400-1766242800@www.abccommunity.com
SUMMARY:(FHR) Private Event
DESCRIPTION:
URL:https://www.abccommunity.com/event/fhr-private-event-11/
END:VEVENT
BEGIN:VEVENT
DTSTART;TZID=America/New_York:20251222T000000
DTEND;TZID=America/New_York:20251222T235959
DTSTAMP:20260423T232707
CREATED:20251024T160410Z
LAST-MODIFIED:20251024T160410Z
UID:10002670-1766361600-1766447999@www.abccommunity.com
SUMMARY:(FHR) set-up
DESCRIPTION:
URL:https://www.abccommunity.com/event/fhr-set-up-3/
END:VEVENT
BEGIN:VEVENT
DTSTART;TZID=America/New_York:20251223T000000
DTEND;TZID=America/New_York:20251223T235959
DTSTAMP:20260423T232707
CREATED:20241213T180522Z
LAST-MODIFIED:20241213T180531Z
UID:10002042-1766448000-1766534399@www.abccommunity.com
SUMMARY:(FHR) Event set-up
DESCRIPTION:
URL:https://www.abccommunity.com/event/fhr-event-set-up/
END:VEVENT
BEGIN:VEVENT
DTSTART;TZID=America/New_York:20251224T173000
DTEND;TZID=America/New_York:20251224T173000
DTSTAMP:20260423T232707
CREATED:20241119T231204Z
LAST-MODIFIED:20241119T231204Z
UID:10002025-1766597400-1766597400@www.abccommunity.com
SUMMARY:Christmas Eve Communion & Family Meal
DESCRIPTION:
URL:https://www.abccommunity.com/event/christmas-eve-communion-family-meal-2/
END:VEVENT
END:VCALENDAR