BEGIN:VCALENDAR
VERSION:2.0
PRODID:-//Antioch Baptist Church - ECPv6.15.20//NONSGML v1.0//EN
CALSCALE:GREGORIAN
METHOD:PUBLISH
X-WR-CALNAME:Antioch Baptist Church
X-ORIGINAL-URL:https://www.abccommunity.com
X-WR-CALDESC:Events for Antioch Baptist Church
REFRESH-INTERVAL;VALUE=DURATION:PT1H
X-Robots-Tag:noindex
X-PUBLISHED-TTL:PT1H
BEGIN:VTIMEZONE
TZID:America/New_York
BEGIN:DAYLIGHT
TZOFFSETFROM:-0500
TZOFFSETTO:-0400
TZNAME:EDT
DTSTART:20240310T070000
END:DAYLIGHT
BEGIN:STANDARD
TZOFFSETFROM:-0400
TZOFFSETTO:-0500
TZNAME:EST
DTSTART:20241103T060000
END:STANDARD
BEGIN:DAYLIGHT
TZOFFSETFROM:-0500
TZOFFSETTO:-0400
TZNAME:EDT
DTSTART:20250309T070000
END:DAYLIGHT
BEGIN:STANDARD
TZOFFSETFROM:-0400
TZOFFSETTO:-0500
TZNAME:EST
DTSTART:20251102T060000
END:STANDARD
BEGIN:DAYLIGHT
TZOFFSETFROM:-0500
TZOFFSETTO:-0400
TZNAME:EDT
DTSTART:20260308T070000
END:DAYLIGHT
BEGIN:STANDARD
TZOFFSETFROM:-0400
TZOFFSETTO:-0500
TZNAME:EST
DTSTART:20261101T060000
END:STANDARD
END:VTIMEZONE
BEGIN:VEVENT
DTSTART;TZID=America/New_York:20251023T173000
DTEND;TZID=America/New_York:20251023T173000
DTSTAMP:20260424T015553
CREATED:20241119T175651Z
LAST-MODIFIED:20241119T175651Z
UID:10001909-1761240600-1761240600@www.abccommunity.com
SUMMARY:Ronald McDonald House Meal
DESCRIPTION:Preparation of monthly meal.
URL:https://www.abccommunity.com/event/ronald-mcdonald-house-meal/2025-10-23/
END:VEVENT
BEGIN:VEVENT
DTSTART;TZID=America/New_York:20251026T120000
DTEND;TZID=America/New_York:20251026T120000
DTSTAMP:20260424T015553
CREATED:20250723T155453Z
LAST-MODIFIED:20250723T155453Z
UID:10002260-1761480000-1761480000@www.abccommunity.com
SUMMARY:Sunday Lunch
DESCRIPTION:
URL:https://www.abccommunity.com/event/sunday-lunch-5/2025-10-26/
END:VEVENT
BEGIN:VEVENT
DTSTART;TZID=America/New_York:20251026T160000
DTEND;TZID=America/New_York:20251026T173000
DTSTAMP:20260424T015553
CREATED:20241119T224212Z
LAST-MODIFIED:20241119T224212Z
UID:10001991-1761494400-1761499800@www.abccommunity.com
SUMMARY:Awana
DESCRIPTION:Fun Club for Kids!  Derived from the first letters of “Approved Workmen Are Not Ashamed” as taken from: \n2 Timothy 2:15.   TEACHING CHILDREN ABOUT GOD\, with scripture\, games\, music and prayer.    \n(Age groups:  PreK – 5th grade)
URL:https://www.abccommunity.com/event/awana-2/2025-10-26/
END:VEVENT
BEGIN:VEVENT
DTSTART;TZID=America/New_York:20251026T160000
DTEND;TZID=America/New_York:20251026T173000
DTSTAMP:20260424T015553
CREATED:20241119T224533Z
LAST-MODIFIED:20250814T221553Z
UID:10002003-1761494400-1761499800@www.abccommunity.com
SUMMARY:Youth Band & Youth Projects
DESCRIPTION:Open to all students:  grades 6th – 12th
URL:https://www.abccommunity.com/event/youth-bible-study-2/2025-10-26/
END:VEVENT
BEGIN:VEVENT
DTSTART;TZID=America/New_York:20251026T173000
DTEND;TZID=America/New_York:20251026T190000
DTSTAMP:20260424T015553
CREATED:20250814T222756Z
LAST-MODIFIED:20250814T222756Z
UID:10002299-1761499800-1761505200@www.abccommunity.com
SUMMARY:Youth Discipleship Group
DESCRIPTION:Grades 6th – 12th
URL:https://www.abccommunity.com/event/youth-discipleship-group-2/2025-10-26/
END:VEVENT
BEGIN:VEVENT
DTSTART;TZID=America/New_York:20251027T143000
DTEND;TZID=America/New_York:20251027T190000
DTSTAMP:20260424T015553
CREATED:20250819T221101Z
LAST-MODIFIED:20251002T142631Z
UID:10002305-1761575400-1761591600@www.abccommunity.com
SUMMARY:Red Cross Blood Drive
DESCRIPTION:
URL:https://www.abccommunity.com/event/red-cross-blood-drive/
END:VEVENT
BEGIN:VEVENT
DTSTART;TZID=America/New_York:20251028T100000
DTEND;TZID=America/New_York:20251028T100000
DTSTAMP:20260424T015553
CREATED:20250804T150822Z
LAST-MODIFIED:20250804T150822Z
UID:10002269-1761645600-1761645600@www.abccommunity.com
SUMMARY:Women's Bible Study
DESCRIPTION:“40 Days Through the Bible’ by Lysa Terkeurst.  Contact Virginia Ferguson for Study Book.
URL:https://www.abccommunity.com/event/womens-bible-study-4/2025-10-28/
END:VEVENT
BEGIN:VEVENT
DTSTART;TZID=America/New_York:20251029T180000
DTEND;TZID=America/New_York:20251029T180000
DTSTAMP:20260424T015553
CREATED:20241119T172120Z
LAST-MODIFIED:20250917T174027Z
UID:10001820-1761760800-1761760800@www.abccommunity.com
SUMMARY:Wednesday Night Activities
DESCRIPTION:6:00:  Wednesday Night Supper\, 6:45 p.m.:  Youth Group \, 7:00:  Adult Bible Study\, BASICS Class & Missions Journey Kids\, 8:00 Choir
URL:https://www.abccommunity.com/event/wednesday-night-activities-2/2025-10-29/
END:VEVENT
BEGIN:VEVENT
DTSTART;TZID=America/New_York:20251030T190000
DTEND;TZID=America/New_York:20251030T190000
DTSTAMP:20260424T015553
CREATED:20251022T171652Z
LAST-MODIFIED:20251022T171659Z
UID:10002668-1761850800-1761850800@www.abccommunity.com
SUMMARY:Budget & Finance Comm. Mtg.
DESCRIPTION:
URL:https://www.abccommunity.com/event/budget-finance-comm-mtg/
END:VEVENT
END:VCALENDAR